BEGIN:VCALENDAR
VERSION:2.0
PRODID:-//Staging BBB - ECPv6.15.20//NONSGML v1.0//EN
CALSCALE:GREGORIAN
METHOD:PUBLISH
X-ORIGINAL-URL:https://staging.blackbabybooks.com
X-WR-CALDESC:Events for Staging BBB
REFRESH-INTERVAL;VALUE=DURATION:PT1H
X-Robots-Tag:noindex
X-PUBLISHED-TTL:PT1H
BEGIN:VTIMEZONE
TZID:America/New_York
BEGIN:DAYLIGHT
TZOFFSETFROM:-0500
TZOFFSETTO:-0400
TZNAME:EDT
DTSTART:20210314T070000
END:DAYLIGHT
BEGIN:STANDARD
TZOFFSETFROM:-0400
TZOFFSETTO:-0500
TZNAME:EST
DTSTART:20211107T060000
END:STANDARD
BEGIN:DAYLIGHT
TZOFFSETFROM:-0500
TZOFFSETTO:-0400
TZNAME:EDT
DTSTART:20220313T070000
END:DAYLIGHT
BEGIN:STANDARD
TZOFFSETFROM:-0400
TZOFFSETTO:-0500
TZNAME:EST
DTSTART:20221106T060000
END:STANDARD
BEGIN:DAYLIGHT
TZOFFSETFROM:-0500
TZOFFSETTO:-0400
TZNAME:EDT
DTSTART:20230312T070000
END:DAYLIGHT
BEGIN:STANDARD
TZOFFSETFROM:-0400
TZOFFSETTO:-0500
TZNAME:EST
DTSTART:20231105T060000
END:STANDARD
END:VTIMEZONE
BEGIN:VEVENT
DTSTART;TZID=America/New_York:20220228T190000
DTEND;TZID=America/New_York:20220228T200000
DTSTAMP:20260420T220408
CREATED:20220226T042951Z
LAST-MODIFIED:20220226T042951Z
UID:10001442-1646074800-1646078400@staging.blackbabybooks.com
SUMMARY:Writing and Illustrating for Black Children in Picture Books
DESCRIPTION:Let’s celebrate Black joy in children’s literature with some of your favorite Black authors and illustrators. Learn what projects they’re currently working on\, why they write or illustrate for Black children\, and how you can support their work. Sign up below to register for this exclusive event. Only the first 400 sign-ups will be accepted.
URL:https://staging.blackbabybooks.com/event/writing-and-illustrating-for-black-children-in-picture-books/
LOCATION:Black Children’s Book Museum
CATEGORIES:Panel,Virtual
ATTACH;FMTTYPE=image/png:https://staging.blackbabybooks.com/wp-content/uploads/2022/02/BCBW-Author-Panel-2-28-2022-IG-Post.png
END:VEVENT
END:VCALENDAR