BEGIN:VCALENDAR
VERSION:2.0
PRODID:-//Staging BBB - ECPv6.15.20//NONSGML v1.0//EN
CALSCALE:GREGORIAN
METHOD:PUBLISH
X-ORIGINAL-URL:https://staging.blackbabybooks.com
X-WR-CALDESC:Events for Staging BBB
REFRESH-INTERVAL;VALUE=DURATION:PT1H
X-Robots-Tag:noindex
X-PUBLISHED-TTL:PT1H
BEGIN:VTIMEZONE
TZID:America/New_York
BEGIN:DAYLIGHT
TZOFFSETFROM:-0500
TZOFFSETTO:-0400
TZNAME:EDT
DTSTART:20230312T070000
END:DAYLIGHT
BEGIN:STANDARD
TZOFFSETFROM:-0400
TZOFFSETTO:-0500
TZNAME:EST
DTSTART:20231105T060000
END:STANDARD
BEGIN:DAYLIGHT
TZOFFSETFROM:-0500
TZOFFSETTO:-0400
TZNAME:EDT
DTSTART:20240310T070000
END:DAYLIGHT
BEGIN:STANDARD
TZOFFSETFROM:-0400
TZOFFSETTO:-0500
TZNAME:EST
DTSTART:20241103T060000
END:STANDARD
BEGIN:DAYLIGHT
TZOFFSETFROM:-0500
TZOFFSETTO:-0400
TZNAME:EDT
DTSTART:20250309T070000
END:DAYLIGHT
BEGIN:STANDARD
TZOFFSETFROM:-0400
TZOFFSETTO:-0500
TZNAME:EST
DTSTART:20251102T060000
END:STANDARD
END:VTIMEZONE
BEGIN:VEVENT
DTSTART;TZID=America/New_York:20240225T140000
DTEND;TZID=America/New_York:20240225T160000
DTSTAMP:20260420T031519
CREATED:20231108T135955Z
LAST-MODIFIED:20231108T135955Z
UID:10002251-1708869600-1708876800@staging.blackbabybooks.com
SUMMARY:Black Children's Book Museum: Black Children's Book Week Exhibit Opening!
DESCRIPTION:Visit The Black Children’s Book Museum! Join us to celebrate Black Children’s Book Week and the power of Black representation! At our museum opening you will get a chance to tour the galleries in our Black Children’s Book Week Shoppable Virtual Museum of Black Representation\, where you can discover and purchase Black children’s books for the children in your life! \nBlack Children’s Book Week Sponsors are featured in our Black Children’s Book Week Shoppable Virtual Museum of Black Representation! \nImages from their books and products are on display\, accompanied by clickable information tags that direct you to their purchase page\, making it easy for you to support their children’s books\, products\, or services! \nYou will also hear from the authors and organizers who are hosting events during Black Children’s Book Week.
URL:https://staging.blackbabybooks.com/event/black-childrens-book-week-museum-opening-2024/
LOCATION:Black Children’s Book Museum
ATTACH;FMTTYPE=image/png:https://staging.blackbabybooks.com/wp-content/uploads/2023/11/Black-Childrens-Book-Week-Museum-of-Black-Representation-8-×-10-in-10.png
END:VEVENT
END:VCALENDAR