BEGIN:VCALENDAR
VERSION:2.0
PRODID:-//Staging BBB - ECPv6.15.20//NONSGML v1.0//EN
CALSCALE:GREGORIAN
METHOD:PUBLISH
X-ORIGINAL-URL:https://staging.blackbabybooks.com
X-WR-CALDESC:Events for Staging BBB
REFRESH-INTERVAL;VALUE=DURATION:PT1H
X-Robots-Tag:noindex
X-PUBLISHED-TTL:PT1H
BEGIN:VTIMEZONE
TZID:America/Chicago
BEGIN:DAYLIGHT
TZOFFSETFROM:-0600
TZOFFSETTO:-0500
TZNAME:CDT
DTSTART:20210314T080000
END:DAYLIGHT
BEGIN:STANDARD
TZOFFSETFROM:-0500
TZOFFSETTO:-0600
TZNAME:CST
DTSTART:20211107T070000
END:STANDARD
BEGIN:DAYLIGHT
TZOFFSETFROM:-0600
TZOFFSETTO:-0500
TZNAME:CDT
DTSTART:20220313T080000
END:DAYLIGHT
BEGIN:STANDARD
TZOFFSETFROM:-0500
TZOFFSETTO:-0600
TZNAME:CST
DTSTART:20221106T070000
END:STANDARD
BEGIN:DAYLIGHT
TZOFFSETFROM:-0600
TZOFFSETTO:-0500
TZNAME:CDT
DTSTART:20230312T080000
END:DAYLIGHT
BEGIN:STANDARD
TZOFFSETFROM:-0500
TZOFFSETTO:-0600
TZNAME:CST
DTSTART:20231105T070000
END:STANDARD
END:VTIMEZONE
BEGIN:VEVENT
DTSTART;TZID=America/Chicago:20220305T130000
DTEND;TZID=America/Chicago:20220305T150000
DTSTAMP:20260420T234619
CREATED:20220122T181433Z
LAST-MODIFIED:20220218T200352Z
UID:10001090-1646485200-1646492400@staging.blackbabybooks.com
SUMMARY:The Houston Area Celebration
DESCRIPTION:Houston\, a Black Children’s Book Week Celebration is Coming! \n\nWe are excited to announce our Location for the Houston celebration!\n\n@kindredstorieshtx Houston’s very own BlackOwned Bookstore!\n\nJoin us:\nSaturday\, March 5\, 2022\n1:00pm – 3:00pm\n\nKindred Stories\n2304 Stuart Street\nHouston\, TX 77004\n\nLook forward to seeing you there!\n\nFeatured Books:\n “Daddy Shoo Them Away” by Rhea Simmons with @itkseries\n\n “Mason Makes Money” and “Joseph the Great” by Candace Okin @candaceokinbooks\n\n “Mommy\, Am I Brown?” by Deandra Abuto with @candyyesbooks\n\n We will also have The organization Books & Bubbles with Veya Henry\n\n\n\nAs the days lead up\, we will share more details of each featured Author of the event.
URL:https://staging.blackbabybooks.com/event/houston-celebration/
LOCATION:Kindred Stories\, 2304 Stuart Street\, Houston\, TX\, 77004\, United States
CATEGORIES:In-Person
ATTACH;FMTTYPE=image/png:https://staging.blackbabybooks.com/wp-content/uploads/2022/01/unnamed-9.png
END:VEVENT
END:VCALENDAR