BEGIN:VCALENDAR
VERSION:2.0
PRODID:-//Staging BBB - ECPv6.15.20//NONSGML v1.0//EN
CALSCALE:GREGORIAN
METHOD:PUBLISH
X-WR-CALNAME:Staging BBB
X-ORIGINAL-URL:https://staging.blackbabybooks.com
X-WR-CALDESC:Events for Staging BBB
REFRESH-INTERVAL;VALUE=DURATION:PT1H
X-Robots-Tag:noindex
X-PUBLISHED-TTL:PT1H
BEGIN:VTIMEZONE
TZID:America/New_York
BEGIN:DAYLIGHT
TZOFFSETFROM:-0500
TZOFFSETTO:-0400
TZNAME:EDT
DTSTART:20220313T070000
END:DAYLIGHT
BEGIN:STANDARD
TZOFFSETFROM:-0400
TZOFFSETTO:-0500
TZNAME:EST
DTSTART:20221106T060000
END:STANDARD
BEGIN:DAYLIGHT
TZOFFSETFROM:-0500
TZOFFSETTO:-0400
TZNAME:EDT
DTSTART:20230312T070000
END:DAYLIGHT
BEGIN:STANDARD
TZOFFSETFROM:-0400
TZOFFSETTO:-0500
TZNAME:EST
DTSTART:20231105T060000
END:STANDARD
BEGIN:DAYLIGHT
TZOFFSETFROM:-0500
TZOFFSETTO:-0400
TZNAME:EDT
DTSTART:20240310T070000
END:DAYLIGHT
BEGIN:STANDARD
TZOFFSETFROM:-0400
TZOFFSETTO:-0500
TZNAME:EST
DTSTART:20241103T060000
END:STANDARD
END:VTIMEZONE
BEGIN:VEVENT
DTSTART;TZID=America/New_York:20230304T130000
DTEND;TZID=America/New_York:20230304T150000
DTSTAMP:20260420T072857
CREATED:20230218T225315Z
LAST-MODIFIED:20230218T225315Z
UID:10002234-1677934800-1677942000@staging.blackbabybooks.com
SUMMARY:Black Children's Book Week - Read Aloud
DESCRIPTION:Celebrate Black Children’s Book Week with Alpha Kappa Alpha Sorority\, Incorporated\, Alpha Beta Rho Omega Chapter! This fun-filled event will feature stories\, poems\, and excerpts from works by Black children’s authors. Children ages pre-K to 12th grade are invited to join us! \nBring a book\, get a book: attendees (ages pre-K to 18) will receive a free book. We are also collecting books for donations throughout the community. \nBlack Children’s Book Week is is a global celebration of Black children and the people who ensure Black children are represented in books and other children’s media.
URL:https://staging.blackbabybooks.com/event/black-childrens-book-week-read-aloud/
LOCATION:River Vale Community Center\, 628 Rivervale Road\, Westwood\, NJ\, 07665\, United States
ATTACH;FMTTYPE=image/png:https://staging.blackbabybooks.com/wp-content/uploads/2023/02/Black-Childrens-Book-Week-Flyer-Flyers-2.png
ORGANIZER;CN="Alpha Kappa Alpha Sorority Incorporated%2C Alpha Beta Rho Omega Chapter":MAILTO:alphabetarhoomega@googlegroups.com
END:VEVENT
END:VCALENDAR