BEGIN:VCALENDAR
VERSION:2.0
PRODID:-//Staging BBB - ECPv6.15.20//NONSGML v1.0//EN
CALSCALE:GREGORIAN
METHOD:PUBLISH
X-ORIGINAL-URL:https://staging.blackbabybooks.com
X-WR-CALDESC:Events for Staging BBB
REFRESH-INTERVAL;VALUE=DURATION:PT1H
X-Robots-Tag:noindex
X-PUBLISHED-TTL:PT1H
BEGIN:VTIMEZONE
TZID:America/New_York
BEGIN:DAYLIGHT
TZOFFSETFROM:-0500
TZOFFSETTO:-0400
TZNAME:EDT
DTSTART:20210314T070000
END:DAYLIGHT
BEGIN:STANDARD
TZOFFSETFROM:-0400
TZOFFSETTO:-0500
TZNAME:EST
DTSTART:20211107T060000
END:STANDARD
BEGIN:DAYLIGHT
TZOFFSETFROM:-0500
TZOFFSETTO:-0400
TZNAME:EDT
DTSTART:20220313T070000
END:DAYLIGHT
BEGIN:STANDARD
TZOFFSETFROM:-0400
TZOFFSETTO:-0500
TZNAME:EST
DTSTART:20221106T060000
END:STANDARD
BEGIN:DAYLIGHT
TZOFFSETFROM:-0500
TZOFFSETTO:-0400
TZNAME:EDT
DTSTART:20230312T070000
END:DAYLIGHT
BEGIN:STANDARD
TZOFFSETFROM:-0400
TZOFFSETTO:-0500
TZNAME:EST
DTSTART:20231105T060000
END:STANDARD
END:VTIMEZONE
BEGIN:VEVENT
DTSTART;TZID=America/New_York:20220227T200000
DTEND;TZID=America/New_York:20220305T210000
DTSTAMP:20260421T163428
CREATED:20220213T181707Z
LAST-MODIFIED:20220213T181853Z
UID:10001796-1645992000-1646514000@staging.blackbabybooks.com
SUMMARY:Black Children Book Read Aloud
DESCRIPTION:During the week of 2/27-3/5 (Black Children’s Book Week)\, my young children & I will be reading a children’s book out loud on TwitterSpace (audio social media) & Instagram. Daily at 8pmET. Follow @innodim on Twitter & IG to get notifications.
URL:https://staging.blackbabybooks.com/event/black-children-book-read-aloud/
LOCATION:Online Event
CATEGORIES:Children's Book Reading
ATTACH;FMTTYPE=image/jpeg:https://staging.blackbabybooks.com/wp-content/uploads/2022/02/F7E6A545-54A5-4D6D-8694-DDA7001201F9-scaled.jpeg
ORGANIZER;CN="Dr.Ijeoma Nnodim Opara":MAILTO:ijeomannodimopara@gmail.com
END:VEVENT
END:VCALENDAR