BEGIN:VCALENDAR
VERSION:2.0
PRODID:-//Staging BBB - ECPv6.15.20//NONSGML v1.0//EN
CALSCALE:GREGORIAN
METHOD:PUBLISH
X-WR-CALNAME:Staging BBB
X-ORIGINAL-URL:https://staging.blackbabybooks.com
X-WR-CALDESC:Events for Staging BBB
REFRESH-INTERVAL;VALUE=DURATION:PT1H
X-Robots-Tag:noindex
X-PUBLISHED-TTL:PT1H
BEGIN:VTIMEZONE
TZID:America/New_York
BEGIN:DAYLIGHT
TZOFFSETFROM:-0500
TZOFFSETTO:-0400
TZNAME:EDT
DTSTART:20210314T070000
END:DAYLIGHT
BEGIN:STANDARD
TZOFFSETFROM:-0400
TZOFFSETTO:-0500
TZNAME:EST
DTSTART:20211107T060000
END:STANDARD
BEGIN:DAYLIGHT
TZOFFSETFROM:-0500
TZOFFSETTO:-0400
TZNAME:EDT
DTSTART:20220313T070000
END:DAYLIGHT
BEGIN:STANDARD
TZOFFSETFROM:-0400
TZOFFSETTO:-0500
TZNAME:EST
DTSTART:20221106T060000
END:STANDARD
BEGIN:DAYLIGHT
TZOFFSETFROM:-0500
TZOFFSETTO:-0400
TZNAME:EDT
DTSTART:20230312T070000
END:DAYLIGHT
BEGIN:STANDARD
TZOFFSETFROM:-0400
TZOFFSETTO:-0500
TZNAME:EST
DTSTART:20231105T060000
END:STANDARD
END:VTIMEZONE
BEGIN:VEVENT
DTSTART;TZID=America/New_York:20220305T140000
DTEND;TZID=America/New_York:20220305T143000
DTSTAMP:20260422T222032
CREATED:20220206T005015Z
LAST-MODIFIED:20220206T005015Z
UID:10001461-1646488800-1646490600@staging.blackbabybooks.com
SUMMARY:My Name Is King: Virtual Read Aloud and Meet the Author
DESCRIPTION:My Name is King is a story told through the eyes of a Down Syndrome child. In this story\, he describes his likes\, dislikes\, behaviors and remedies to counter his behaviors. Join King and Brie as they take you on a journey through a Down Syndrome child’s day!
URL:https://staging.blackbabybooks.com/event/my-name-is-king-virtual-read-aloud-and-meet-the-author/2022-03-05/
LOCATION:Online Event
CATEGORIES:Children's Book Reading,Virtual
ATTACH;FMTTYPE=image/png:https://staging.blackbabybooks.com/wp-content/uploads/2022/02/My-Name-Is-King-Virtual-Read-Aloud-and-Meet-the-Author-png.png
ORGANIZER;CN="OKLRN2%2C LLC":MAILTO:oklrn2.llc@gmail.com
END:VEVENT
BEGIN:VEVENT
DTSTART;TZID=America/New_York:20220304T180000
DTEND;TZID=America/New_York:20220304T183000
DTSTAMP:20260422T222032
CREATED:20220206T005015Z
LAST-MODIFIED:20220206T005015Z
UID:10001460-1646416800-1646418600@staging.blackbabybooks.com
SUMMARY:My Name Is King: Virtual Read Aloud and Meet the Author
DESCRIPTION:My Name is King is a story told through the eyes of a Down Syndrome child. In this story\, he describes his likes\, dislikes\, behaviors and remedies to counter his behaviors. Join King and Brie as they take you on a journey through a Down Syndrome child’s day!
URL:https://staging.blackbabybooks.com/event/my-name-is-king-virtual-read-aloud-and-meet-the-author/2022-03-04/
LOCATION:Online Event
CATEGORIES:Children's Book Reading,Virtual
ATTACH;FMTTYPE=image/png:https://staging.blackbabybooks.com/wp-content/uploads/2022/02/My-Name-Is-King-Virtual-Read-Aloud-and-Meet-the-Author-png.png
ORGANIZER;CN="OKLRN2%2C LLC":MAILTO:oklrn2.llc@gmail.com
END:VEVENT
BEGIN:VEVENT
DTSTART;TZID=America/New_York:20220303T180000
DTEND;TZID=America/New_York:20220303T183000
DTSTAMP:20260422T222032
CREATED:20220206T005015Z
LAST-MODIFIED:20220206T005015Z
UID:10001459-1646330400-1646332200@staging.blackbabybooks.com
SUMMARY:My Name Is King: Virtual Read Aloud and Meet the Author
DESCRIPTION:My Name is King is a story told through the eyes of a Down Syndrome child. In this story\, he describes his likes\, dislikes\, behaviors and remedies to counter his behaviors. Join King and Brie as they take you on a journey through a Down Syndrome child’s day!
URL:https://staging.blackbabybooks.com/event/my-name-is-king-virtual-read-aloud-and-meet-the-author/2022-03-03/
LOCATION:Online Event
CATEGORIES:Children's Book Reading,Virtual
ATTACH;FMTTYPE=image/png:https://staging.blackbabybooks.com/wp-content/uploads/2022/02/My-Name-Is-King-Virtual-Read-Aloud-and-Meet-the-Author-png.png
ORGANIZER;CN="OKLRN2%2C LLC":MAILTO:oklrn2.llc@gmail.com
END:VEVENT
END:VCALENDAR