BEGIN:VCALENDAR
VERSION:2.0
PRODID:-//Staging BBB - ECPv6.15.20//NONSGML v1.0//EN
CALSCALE:GREGORIAN
METHOD:PUBLISH
X-WR-CALNAME:Staging BBB
X-ORIGINAL-URL:https://staging.blackbabybooks.com
X-WR-CALDESC:Events for Staging BBB
REFRESH-INTERVAL;VALUE=DURATION:PT1H
X-Robots-Tag:noindex
X-PUBLISHED-TTL:PT1H
BEGIN:VTIMEZONE
TZID:America/New_York
BEGIN:DAYLIGHT
TZOFFSETFROM:-0500
TZOFFSETTO:-0400
TZNAME:EDT
DTSTART:20210314T070000
END:DAYLIGHT
BEGIN:STANDARD
TZOFFSETFROM:-0400
TZOFFSETTO:-0500
TZNAME:EST
DTSTART:20211107T060000
END:STANDARD
BEGIN:DAYLIGHT
TZOFFSETFROM:-0500
TZOFFSETTO:-0400
TZNAME:EDT
DTSTART:20220313T070000
END:DAYLIGHT
BEGIN:STANDARD
TZOFFSETFROM:-0400
TZOFFSETTO:-0500
TZNAME:EST
DTSTART:20221106T060000
END:STANDARD
BEGIN:DAYLIGHT
TZOFFSETFROM:-0500
TZOFFSETTO:-0400
TZNAME:EDT
DTSTART:20230312T070000
END:DAYLIGHT
BEGIN:STANDARD
TZOFFSETFROM:-0400
TZOFFSETTO:-0500
TZNAME:EST
DTSTART:20231105T060000
END:STANDARD
END:VTIMEZONE
BEGIN:VEVENT
DTSTART;TZID=America/New_York:20220220T130000
DTEND;TZID=America/New_York:20220220T180000
DTSTAMP:20260423T170224
CREATED:20220207T150844Z
LAST-MODIFIED:20220207T150844Z
UID:10001463-1645362000-1645380000@staging.blackbabybooks.com
SUMMARY:Black Rock Star Super Hero Marketplace
DESCRIPTION:Stop by our booth at the Rock Star Super Hero Marketplace in uptown DC on Sunday\, February 20th from 1PM – 6PM. \nMeet and greet with DMV-based black children’s authors\, shop their books and merch and meet other vendors from around the city. \n  \nThis event is located at 3 Stars Brewing Company; 6400 Chillum Pl NW\, Washington\, DC 20011 \nWe hope to see you there.
URL:https://staging.blackbabybooks.com/event/black-rock-star-super-hero-marketplace/
LOCATION:3 Stars Brewing Company\, 6400 Chillum Pl NW\, Washington\, 20011\, United States
CATEGORIES:In-Person
ATTACH;FMTTYPE=image/png:https://staging.blackbabybooks.com/wp-content/uploads/2022/02/February-20th-BCBW-DMV-1.png
ORGANIZER;CN="4DMV Kids":MAILTO:4dmvkids@gmail.com
END:VEVENT
END:VCALENDAR