BEGIN:VCALENDAR
VERSION:2.0
PRODID:-//Staging BBB - ECPv6.15.20//NONSGML v1.0//EN
CALSCALE:GREGORIAN
METHOD:PUBLISH
X-WR-CALNAME:Staging BBB
X-ORIGINAL-URL:https://staging.blackbabybooks.com
X-WR-CALDESC:Events for Staging BBB
REFRESH-INTERVAL;VALUE=DURATION:PT1H
X-Robots-Tag:noindex
X-PUBLISHED-TTL:PT1H
BEGIN:VTIMEZONE
TZID:America/New_York
BEGIN:DAYLIGHT
TZOFFSETFROM:-0500
TZOFFSETTO:-0400
TZNAME:EDT
DTSTART:20220313T070000
END:DAYLIGHT
BEGIN:STANDARD
TZOFFSETFROM:-0400
TZOFFSETTO:-0500
TZNAME:EST
DTSTART:20221106T060000
END:STANDARD
BEGIN:DAYLIGHT
TZOFFSETFROM:-0500
TZOFFSETTO:-0400
TZNAME:EDT
DTSTART:20230312T070000
END:DAYLIGHT
BEGIN:STANDARD
TZOFFSETFROM:-0400
TZOFFSETTO:-0500
TZNAME:EST
DTSTART:20231105T060000
END:STANDARD
BEGIN:DAYLIGHT
TZOFFSETFROM:-0500
TZOFFSETTO:-0400
TZNAME:EDT
DTSTART:20240310T070000
END:DAYLIGHT
BEGIN:STANDARD
TZOFFSETFROM:-0400
TZOFFSETTO:-0500
TZNAME:EST
DTSTART:20241103T060000
END:STANDARD
END:VTIMEZONE
BEGIN:VEVENT
DTSTART;TZID=America/New_York:20230304T120000
DTEND;TZID=America/New_York:20230304T150000
DTSTAMP:20260423T004539
CREATED:20230210T231518Z
LAST-MODIFIED:20230210T231518Z
UID:10002211-1677931200-1677942000@staging.blackbabybooks.com
SUMMARY:Black Children's Books: A to Z
DESCRIPTION:In honor of 2023 Black Children’s Book Week\, the new Columbia bookstore All Good Books and Artist Madrid Books & Publishing would like to invite you to this can’t miss event! Join us for author readings\, children’s activities\, book signings & more. \nWhen: Saturday\, March 4\, 2023 starting at 12:00 pm \nWhere: All Good Books \n734 Harden Street\, Columbia\, SC 29205 \nBlack Children’s Books: A to Z will feature local authors:\nKeri Beach @kerispeaks__\nShawn Beach @cartoonjunkyard\nAshley Blas @blossomchildrensbooks\nCaitlyn Jones @artistmadrid.books\nTiffani Teachey @tiffaniteachey
URL:https://staging.blackbabybooks.com/event/black-childrens-books-a-to-z/
LOCATION:All Good Books\, 734 Harden St\, Columbia\, SC 29205\, Columbia\, SC\, 29205\, United States
CATEGORIES:Children's Book Reading,In-Person,Panel
ATTACH;FMTTYPE=image/png:https://staging.blackbabybooks.com/wp-content/uploads/2023/02/20230210_170528_0000.png
ORGANIZER;CN="Artist Madrid Books":MAILTO:Info@artistmadridbooks.com
END:VEVENT
END:VCALENDAR