BEGIN:VCALENDAR
VERSION:2.0
PRODID:-//Staging BBB - ECPv6.15.20//NONSGML v1.0//EN
CALSCALE:GREGORIAN
METHOD:PUBLISH
X-ORIGINAL-URL:https://staging.blackbabybooks.com
X-WR-CALDESC:Events for Staging BBB
REFRESH-INTERVAL;VALUE=DURATION:PT1H
X-Robots-Tag:noindex
X-PUBLISHED-TTL:PT1H
BEGIN:VTIMEZONE
TZID:America/New_York
BEGIN:DAYLIGHT
TZOFFSETFROM:-0500
TZOFFSETTO:-0400
TZNAME:EDT
DTSTART:20220313T070000
END:DAYLIGHT
BEGIN:STANDARD
TZOFFSETFROM:-0400
TZOFFSETTO:-0500
TZNAME:EST
DTSTART:20221106T060000
END:STANDARD
BEGIN:DAYLIGHT
TZOFFSETFROM:-0500
TZOFFSETTO:-0400
TZNAME:EDT
DTSTART:20230312T070000
END:DAYLIGHT
BEGIN:STANDARD
TZOFFSETFROM:-0400
TZOFFSETTO:-0500
TZNAME:EST
DTSTART:20231105T060000
END:STANDARD
BEGIN:DAYLIGHT
TZOFFSETFROM:-0500
TZOFFSETTO:-0400
TZNAME:EDT
DTSTART:20240310T070000
END:DAYLIGHT
BEGIN:STANDARD
TZOFFSETFROM:-0400
TZOFFSETTO:-0500
TZNAME:EST
DTSTART:20241103T060000
END:STANDARD
END:VTIMEZONE
BEGIN:VEVENT
DTSTART;TZID=America/New_York:20230304T160000
DTEND;TZID=America/New_York:20230304T173000
DTSTAMP:20260420T020527
CREATED:20230218T014150Z
LAST-MODIFIED:20230218T014150Z
UID:10002240-1677945600-1677951000@staging.blackbabybooks.com
SUMMARY:Black Children's Book Week Pitch Competition!
DESCRIPTION:Join us in our Black Children’s Book Week Virtual Meeting Space to help us fund Black children’s books! The audience will help us choose four winners who will receive money to help market or publish their books! \nBlack Children’s Book Week Donors and Sponsors help make this happen! Thank them by visiting our Black Children’s Book Museum and supporting their work!
URL:https://staging.blackbabybooks.com/event/black-childrens-book-week-pitch-competition/
LOCATION:Black Children’s Book Week Virtual Meeting Space
ATTACH;FMTTYPE=image/png:https://staging.blackbabybooks.com/wp-content/uploads/2023/02/New-Flyer-For-Pitch-Competition.png
END:VEVENT
END:VCALENDAR