BEGIN:VCALENDAR
VERSION:2.0
PRODID:-//Staging BBB - ECPv6.15.20//NONSGML v1.0//EN
CALSCALE:GREGORIAN
METHOD:PUBLISH
X-ORIGINAL-URL:https://staging.blackbabybooks.com
X-WR-CALDESC:Events for Staging BBB
REFRESH-INTERVAL;VALUE=DURATION:PT1H
X-Robots-Tag:noindex
X-PUBLISHED-TTL:PT1H
BEGIN:VTIMEZONE
TZID:America/New_York
BEGIN:DAYLIGHT
TZOFFSETFROM:-0500
TZOFFSETTO:-0400
TZNAME:EDT
DTSTART:20210314T070000
END:DAYLIGHT
BEGIN:STANDARD
TZOFFSETFROM:-0400
TZOFFSETTO:-0500
TZNAME:EST
DTSTART:20211107T060000
END:STANDARD
BEGIN:DAYLIGHT
TZOFFSETFROM:-0500
TZOFFSETTO:-0400
TZNAME:EDT
DTSTART:20220313T070000
END:DAYLIGHT
BEGIN:STANDARD
TZOFFSETFROM:-0400
TZOFFSETTO:-0500
TZNAME:EST
DTSTART:20221106T060000
END:STANDARD
BEGIN:DAYLIGHT
TZOFFSETFROM:-0500
TZOFFSETTO:-0400
TZNAME:EDT
DTSTART:20230312T070000
END:DAYLIGHT
BEGIN:STANDARD
TZOFFSETFROM:-0400
TZOFFSETTO:-0500
TZNAME:EST
DTSTART:20231105T060000
END:STANDARD
BEGIN:DAYLIGHT
TZOFFSETFROM:-0500
TZOFFSETTO:-0400
TZNAME:EDT
DTSTART:20240310T070000
END:DAYLIGHT
BEGIN:STANDARD
TZOFFSETFROM:-0400
TZOFFSETTO:-0500
TZNAME:EST
DTSTART:20241103T060000
END:STANDARD
END:VTIMEZONE
BEGIN:VEVENT
DTSTART;TZID=America/New_York:20230225T140000
DTEND;TZID=America/New_York:20230225T160000
DTSTAMP:20260423T083116
CREATED:20230118T165239Z
LAST-MODIFIED:20230118T165239Z
UID:10002165-1677333600-1677340800@staging.blackbabybooks.com
SUMMARY:Black Children's Book Week Museum of Black Representation Exhibit Opening!
DESCRIPTION:Visit The Black Children’s Book Museum! Join us to celebrate Black Children’s Book Week and the power of Black representation! At our museum opening you will get a chance to tour the galleries in our Black Children’s Book Week Shoppable Virtual Museum of Black Representation\, where you can discover and purchase Black children’s books for the children in your life! \nBlack Children’s Book Week Sponsors are featured in our Black Children’s Book Week Shoppable Virtual Museum of Black Representation! \nImages from their books and products are on display\, accompanied by clickable information tags that direct you to their purchase page\, making it easy for you to support their children’s books\, products\, or services! \nYou will also hear from the authors and organizers who are hosting events during Black Children’s Book Week.
URL:https://staging.blackbabybooks.com/event/black-childrens-book-week-museum-of-black-representation-exhibit-opening/
LOCATION:Black Children’s Book Museum
ATTACH;FMTTYPE=image/png:https://staging.blackbabybooks.com/wp-content/uploads/2023/01/Black-Childrens-Book-Week-Museum-of-Black-Representation-Instagram-Post-Portrait.png
END:VEVENT
BEGIN:VEVENT
DTSTART;TZID=America/New_York:20220228T190000
DTEND;TZID=America/New_York:20220228T200000
DTSTAMP:20260423T083116
CREATED:20220226T042951Z
LAST-MODIFIED:20220226T042951Z
UID:10001442-1646074800-1646078400@staging.blackbabybooks.com
SUMMARY:Writing and Illustrating for Black Children in Picture Books
DESCRIPTION:Let’s celebrate Black joy in children’s literature with some of your favorite Black authors and illustrators. Learn what projects they’re currently working on\, why they write or illustrate for Black children\, and how you can support their work. Sign up below to register for this exclusive event. Only the first 400 sign-ups will be accepted.
URL:https://staging.blackbabybooks.com/event/writing-and-illustrating-for-black-children-in-picture-books/
LOCATION:Black Children’s Book Museum
CATEGORIES:Panel,Virtual
ATTACH;FMTTYPE=image/png:https://staging.blackbabybooks.com/wp-content/uploads/2022/02/BCBW-Author-Panel-2-28-2022-IG-Post.png
END:VEVENT
BEGIN:VEVENT
DTSTART;TZID=America/New_York:20220226T140000
DTEND;TZID=America/New_York:20220226T160000
DTSTAMP:20260423T083116
CREATED:20220207T151918Z
LAST-MODIFIED:20220207T232024Z
UID:10001465-1645884000-1645891200@staging.blackbabybooks.com
SUMMARY:Black Children's Book Week Museum of Black Representation Grand Opening!
DESCRIPTION:Celebrate the launch of Black Children’s Book Week\, and the power of Black representation in children’s books! \nJoin us to celebrate the launch of Black Children’s Book Week\, and the power of Black representation! At our museum opening you will hear from the authors and organizers who are hosting events during Black Children’s Book Week. You will also get a chance to tour the galleries in our Black Children’s Book Week Shoppable Virtual Museum of Black Representation\, where you will be able to discover and purchase Black children’s books for the children in your life! \nThe galleries in the museum feature images from our author and publisher sponsors! Join us! This is a virtual event you don’t want to miss!
URL:https://staging.blackbabybooks.com/event/bcbw-museum-grand-opening/
LOCATION:Black Children’s Book Museum
CATEGORIES:Virtual
ATTACH;FMTTYPE=image/jpeg:https://staging.blackbabybooks.com/wp-content/uploads/2022/02/Black-Childrens-Book-Week-Museum-of-Black-Representation-1.jpg
END:VEVENT
END:VCALENDAR