BEGIN:VCALENDAR
VERSION:2.0
PRODID:-//Staging BBB - ECPv6.15.20//NONSGML v1.0//EN
CALSCALE:GREGORIAN
METHOD:PUBLISH
X-ORIGINAL-URL:https://staging.blackbabybooks.com
X-WR-CALDESC:Events for Staging BBB
REFRESH-INTERVAL;VALUE=DURATION:PT1H
X-Robots-Tag:noindex
X-PUBLISHED-TTL:PT1H
BEGIN:VTIMEZONE
TZID:America/New_York
BEGIN:DAYLIGHT
TZOFFSETFROM:-0500
TZOFFSETTO:-0400
TZNAME:EDT
DTSTART:20220313T070000
END:DAYLIGHT
BEGIN:STANDARD
TZOFFSETFROM:-0400
TZOFFSETTO:-0500
TZNAME:EST
DTSTART:20221106T060000
END:STANDARD
BEGIN:DAYLIGHT
TZOFFSETFROM:-0500
TZOFFSETTO:-0400
TZNAME:EDT
DTSTART:20230312T070000
END:DAYLIGHT
BEGIN:STANDARD
TZOFFSETFROM:-0400
TZOFFSETTO:-0500
TZNAME:EST
DTSTART:20231105T060000
END:STANDARD
BEGIN:DAYLIGHT
TZOFFSETFROM:-0500
TZOFFSETTO:-0400
TZNAME:EDT
DTSTART:20240310T070000
END:DAYLIGHT
BEGIN:STANDARD
TZOFFSETFROM:-0400
TZOFFSETTO:-0500
TZNAME:EST
DTSTART:20241103T060000
END:STANDARD
END:VTIMEZONE
BEGIN:VEVENT
DTSTART;TZID=America/New_York:20230304T140000
DTEND;TZID=America/New_York:20230304T160000
DTSTAMP:20260420T095747
CREATED:20230209T175031Z
LAST-MODIFIED:20230209T175031Z
UID:10002197-1677938400-1677945600@staging.blackbabybooks.com
SUMMARY:Black Children's Book Party
DESCRIPTION:You’re invited to join us as we celebrate the joy and creativity of Black children and their books.  The afternoon will include read aloud’s\, guest authors\, games\, and giveaways.   This afternoon of fun and celebration is a collaboration between What is Black?\, Baltimore Read Aloud\, and the Frederick County Public Library.
URL:https://staging.blackbabybooks.com/event/black-childrens-book-party/
LOCATION:C. Burr Artz Public Library\, 110 E. Patrick Street\, Frederick\, MD\, 21701\, United States
CATEGORIES:Children's Book Reading,In-Person
ATTACH;FMTTYPE=image/png:https://staging.blackbabybooks.com/wp-content/uploads/2023/02/Instragram-Posts-Actual-2023-1-1.png
ORGANIZER;CN="Baltimore Read Aloud":MAILTO:bmorereadaloud@gmail.com
END:VEVENT
END:VCALENDAR