BEGIN:VCALENDAR
VERSION:2.0
PRODID:-//Staging BBB - ECPv6.15.20//NONSGML v1.0//EN
CALSCALE:GREGORIAN
METHOD:PUBLISH
X-ORIGINAL-URL:https://staging.blackbabybooks.com
X-WR-CALDESC:Events for Staging BBB
REFRESH-INTERVAL;VALUE=DURATION:PT1H
X-Robots-Tag:noindex
X-PUBLISHED-TTL:PT1H
BEGIN:VTIMEZONE
TZID:America/New_York
BEGIN:DAYLIGHT
TZOFFSETFROM:-0500
TZOFFSETTO:-0400
TZNAME:EDT
DTSTART:20210314T070000
END:DAYLIGHT
BEGIN:STANDARD
TZOFFSETFROM:-0400
TZOFFSETTO:-0500
TZNAME:EST
DTSTART:20211107T060000
END:STANDARD
BEGIN:DAYLIGHT
TZOFFSETFROM:-0500
TZOFFSETTO:-0400
TZNAME:EDT
DTSTART:20220313T070000
END:DAYLIGHT
BEGIN:STANDARD
TZOFFSETFROM:-0400
TZOFFSETTO:-0500
TZNAME:EST
DTSTART:20221106T060000
END:STANDARD
BEGIN:DAYLIGHT
TZOFFSETFROM:-0500
TZOFFSETTO:-0400
TZNAME:EDT
DTSTART:20230312T070000
END:DAYLIGHT
BEGIN:STANDARD
TZOFFSETFROM:-0400
TZOFFSETTO:-0500
TZNAME:EST
DTSTART:20231105T060000
END:STANDARD
END:VTIMEZONE
BEGIN:VEVENT
DTSTART;TZID=America/New_York:20220227T090000
DTEND;TZID=America/New_York:20220227T094500
DTSTAMP:20260421T014225
CREATED:20220226T043238Z
LAST-MODIFIED:20220227T141928Z
UID:10001448-1645952400-1645955100@staging.blackbabybooks.com
SUMMARY:Meet Social Media Influencer Curly Keish for Virtual Story Time
DESCRIPTION:Join Curly Keish’s Online Storytime! \nAuthor Keisha Cuffie also known as CurlyKeish to her many supporters on TikTok and Instagram where she passionately shares Black History. As an author\, activist and educator she is proud to host a virtual Story Time for her new book ‘D Is For Dazzling’\, a book of inclusivity\, positive affirmations and empowerment for Black Children. Join her for her Virtual Story time and chat about what inspired her to write her book ‘D Is For Dazzling’\, described by one reader as “A love letter to black children”. \n9-9:45AM for 45 minutes on ZOOM\n\nJoin Zoom Meeting\nhttps://us05web.zoom.us/j/2916724320?pwd=QStlUDRYNkhWZFM2eTBlcEdlN2VQdz09\n\nMeeting ID: 291 672 4320\nPasscode: 3JfQii
URL:https://staging.blackbabybooks.com/event/meet-social-media-influencer-curly-keish-for-virtual-story-time/
LOCATION:@curlykeish on IG
ATTACH;FMTTYPE=image/png:https://staging.blackbabybooks.com/wp-content/uploads/2022/02/Front-Full-ENG.png
END:VEVENT
END:VCALENDAR