BEGIN:VCALENDAR
VERSION:2.0
PRODID:-//Staging BBB - ECPv6.15.20//NONSGML v1.0//EN
CALSCALE:GREGORIAN
METHOD:PUBLISH
X-WR-CALNAME:Staging BBB
X-ORIGINAL-URL:https://staging.blackbabybooks.com
X-WR-CALDESC:Events for Staging BBB
REFRESH-INTERVAL;VALUE=DURATION:PT1H
X-Robots-Tag:noindex
X-PUBLISHED-TTL:PT1H
BEGIN:VTIMEZONE
TZID:America/New_York
BEGIN:DAYLIGHT
TZOFFSETFROM:-0500
TZOFFSETTO:-0400
TZNAME:EDT
DTSTART:20220313T070000
END:DAYLIGHT
BEGIN:STANDARD
TZOFFSETFROM:-0400
TZOFFSETTO:-0500
TZNAME:EST
DTSTART:20221106T060000
END:STANDARD
BEGIN:DAYLIGHT
TZOFFSETFROM:-0500
TZOFFSETTO:-0400
TZNAME:EDT
DTSTART:20230312T070000
END:DAYLIGHT
BEGIN:STANDARD
TZOFFSETFROM:-0400
TZOFFSETTO:-0500
TZNAME:EST
DTSTART:20231105T060000
END:STANDARD
BEGIN:DAYLIGHT
TZOFFSETFROM:-0500
TZOFFSETTO:-0400
TZNAME:EDT
DTSTART:20240310T070000
END:DAYLIGHT
BEGIN:STANDARD
TZOFFSETFROM:-0400
TZOFFSETTO:-0500
TZNAME:EST
DTSTART:20241103T060000
END:STANDARD
END:VTIMEZONE
BEGIN:VEVENT
DTSTART;TZID=America/New_York:20230304T130000
DTEND;TZID=America/New_York:20230304T150000
DTSTAMP:20260420T095640
CREATED:20230209T184019Z
LAST-MODIFIED:20230209T184019Z
UID:10002191-1677934800-1677942000@staging.blackbabybooks.com
SUMMARY:Tristyn's Book Club Presents: Story Time
DESCRIPTION:Join us as we celebrate Black Children’s Book Week in the DMV through an interactive shopping experience! \nFeatured Authors: Keisha Juanita\, Naeemah Staggs\, Lola Ajayi\, Dupe Ajayi\, & Darrion Beckles. More to be announced! \nTristyn’s Book Club creator\, Christina Wilds will also be hosting a self-publishing workshop for aspiring authors prior to Story Time. \nPartnering Non-Profit: The Prather Foundation — The Prather Foundation enriches the lives of youth from low-income backgrounds through educational\, athletic and social programs. The foundation focuses on fostering the next generation of leaders through positivity\, resources\, and accessibility. At the Prather Foundation\, we believe that children are the very essence of the future. Who they are tomorrow is essentially the outcome of how they are raised and nurtured today.
URL:https://staging.blackbabybooks.com/event/tristyns-book-club-presents-story-time/
LOCATION:Dream Village\, 5128 Baltimore Avenue\, Hyattsville\, MD\, 20781\, United States
CATEGORIES:Children's Book Reading,In-Person
ATTACH;FMTTYPE=image/png:https://staging.blackbabybooks.com/wp-content/uploads/2023/02/TBC-Festival.png
ORGANIZER;CN="Tristyn's Book Club":MAILTO:prbycnh@gmail.com
END:VEVENT
END:VCALENDAR