BEGIN:VCALENDAR
VERSION:2.0
PRODID:-//Staging BBB - ECPv6.15.20//NONSGML v1.0//EN
CALSCALE:GREGORIAN
METHOD:PUBLISH
X-WR-CALNAME:Staging BBB
X-ORIGINAL-URL:https://staging.blackbabybooks.com
X-WR-CALDESC:Events for Staging BBB
REFRESH-INTERVAL;VALUE=DURATION:PT1H
X-Robots-Tag:noindex
X-PUBLISHED-TTL:PT1H
BEGIN:VTIMEZONE
TZID:America/New_York
BEGIN:DAYLIGHT
TZOFFSETFROM:-0500
TZOFFSETTO:-0400
TZNAME:EDT
DTSTART:20220313T070000
END:DAYLIGHT
BEGIN:STANDARD
TZOFFSETFROM:-0400
TZOFFSETTO:-0500
TZNAME:EST
DTSTART:20221106T060000
END:STANDARD
BEGIN:DAYLIGHT
TZOFFSETFROM:-0500
TZOFFSETTO:-0400
TZNAME:EDT
DTSTART:20230312T070000
END:DAYLIGHT
BEGIN:STANDARD
TZOFFSETFROM:-0400
TZOFFSETTO:-0500
TZNAME:EST
DTSTART:20231105T060000
END:STANDARD
BEGIN:DAYLIGHT
TZOFFSETFROM:-0500
TZOFFSETTO:-0400
TZNAME:EDT
DTSTART:20240310T070000
END:DAYLIGHT
BEGIN:STANDARD
TZOFFSETFROM:-0400
TZOFFSETTO:-0500
TZNAME:EST
DTSTART:20241103T060000
END:STANDARD
END:VTIMEZONE
BEGIN:VEVENT
DTSTART;TZID=America/New_York:20230303T150000
DTEND;TZID=America/New_York:20230303T170000
DTSTAMP:20260423T004126
CREATED:20230209T174903Z
LAST-MODIFIED:20230209T174903Z
UID:10002206-1677855600-1677862800@staging.blackbabybooks.com
SUMMARY:Reading Party at Hercules Library
DESCRIPTION:Join your friends at Hercules Library for a reading party to celebrate Black Children’s Book Week! Bring a book of your own or choose one from our display of books featuring Black characters. Stay and read a while\, then take home a book to keep forever from our special giveaway.\n\nBlack Children’s Book Week (starting on the last Sunday in February every year) is a global celebration of Black children and the people who ensure Black children are represented in books and other children’s media.\n\nThis program is generously sponsored by the Friends of the Hercules Library
URL:https://staging.blackbabybooks.com/event/reading-party-at-hercules-library/
LOCATION:Hercules Library\, 109 Civic Drive\, Hercules\, CA\, 94547\, United States
ATTACH;FMTTYPE=image/jpeg:https://staging.blackbabybooks.com/wp-content/uploads/2023/02/HER-Black-Children-Book-flyer-scaled.jpg
ORGANIZER;CN="Katy Buder Librarian":MAILTO:katy.buder@library.cccounty.us
END:VEVENT
BEGIN:VEVENT
DTSTART;TZID=America/New_York:20230225T150000
DTEND;TZID=America/New_York:20230225T160000
DTSTAMP:20260423T004126
CREATED:20230209T174841Z
LAST-MODIFIED:20230209T174841Z
UID:10002207-1677337200-1677340800@staging.blackbabybooks.com
SUMMARY:Storytelling with Muriel Johnson at Hercules Library
DESCRIPTION:Listen as expert storyteller Muriel Johnson shares thought-provoking\, animated true tales and folktales from around the world and the African diaspora. Muriel Johnson’s use of distinct character voices\, dramatic gestures\, and melodic refrains guarantee these traditional stories will stay with you long after the show is over. \nFor families with children ages 3+ \nThis FREE library program is sponsored by the Friends of the Hercules Library.
URL:https://staging.blackbabybooks.com/event/storytelling-with-muriel-johnson-at-hercules-library/
LOCATION:Hercules Library\, 109 Civic Drive\, Hercules\, CA\, 94547\, United States
CATEGORIES:In-Person
ATTACH;FMTTYPE=image/jpeg:https://staging.blackbabybooks.com/wp-content/uploads/2023/02/HER-Muriel-Johnson-flyer-Black-History-Month-scaled.jpg
ORGANIZER;CN="Katy Buder Librarian":MAILTO:katy.buder@library.cccounty.us
END:VEVENT
END:VCALENDAR