BEGIN:VCALENDAR
VERSION:2.0
PRODID:-//Staging BBB - ECPv6.15.20//NONSGML v1.0//EN
CALSCALE:GREGORIAN
METHOD:PUBLISH
X-WR-CALNAME:Staging BBB
X-ORIGINAL-URL:https://staging.blackbabybooks.com
X-WR-CALDESC:Events for Staging BBB
REFRESH-INTERVAL;VALUE=DURATION:PT1H
X-Robots-Tag:noindex
X-PUBLISHED-TTL:PT1H
BEGIN:VTIMEZONE
TZID:America/New_York
BEGIN:DAYLIGHT
TZOFFSETFROM:-0500
TZOFFSETTO:-0400
TZNAME:EDT
DTSTART:20220313T070000
END:DAYLIGHT
BEGIN:STANDARD
TZOFFSETFROM:-0400
TZOFFSETTO:-0500
TZNAME:EST
DTSTART:20221106T060000
END:STANDARD
BEGIN:DAYLIGHT
TZOFFSETFROM:-0500
TZOFFSETTO:-0400
TZNAME:EDT
DTSTART:20230312T070000
END:DAYLIGHT
BEGIN:STANDARD
TZOFFSETFROM:-0400
TZOFFSETTO:-0500
TZNAME:EST
DTSTART:20231105T060000
END:STANDARD
BEGIN:DAYLIGHT
TZOFFSETFROM:-0500
TZOFFSETTO:-0400
TZNAME:EDT
DTSTART:20240310T070000
END:DAYLIGHT
BEGIN:STANDARD
TZOFFSETFROM:-0400
TZOFFSETTO:-0500
TZNAME:EST
DTSTART:20241103T060000
END:STANDARD
END:VTIMEZONE
BEGIN:VEVENT
DTSTART;TZID=America/New_York:20230302T190000
DTEND;TZID=America/New_York:20230302T200000
DTSTAMP:20260420T073848
CREATED:20230219T140358Z
LAST-MODIFIED:20230219T140358Z
UID:10002244-1677783600-1677787200@staging.blackbabybooks.com
SUMMARY:Timeline Talks: Special Edition Author Roundup
DESCRIPTION:Authors gather to discuss the importance of disability representation and inclusion for Black children in kid’s literature. We will discuss our individual journeys that led us to write our inclusive children’s book highlighting various disabilities and diagnoses.
URL:https://staging.blackbabybooks.com/event/timeline-talks-special-edition-author-roundup/
LOCATION:IG LIVE
CATEGORIES:Panel,Virtual
ATTACH;FMTTYPE=image/jpeg:https://staging.blackbabybooks.com/wp-content/uploads/2023/02/Childhood-Superhero-Tees-8-×-10-in.jpg
END:VEVENT
BEGIN:VEVENT
DTSTART;TZID=America/New_York:20230301T190000
DTEND;TZID=America/New_York:20230301T200000
DTSTAMP:20260420T073848
CREATED:20230222T044943Z
LAST-MODIFIED:20230222T044943Z
UID:10002248-1677697200-1677700800@staging.blackbabybooks.com
SUMMARY:Telling African Stories in Children's Books
DESCRIPTION:To celebrate BCBW\, Evelyn Olutola Logan\, author of On the Streets of Ondo hosts a discussion panel with African storytellers. A must attend event\, this panel will delve into why African stories are important for children around the world\, what it means for African culture and traditions to be represented in published books\, some challenges with publishing African stories\, some personal experiences\, how these stories can shape future generations\, and more. \nThis panel features: \nChristine Mapondera\, author of Makanaka’s World: Adventure in Morocco \nEkiuwa Aire\, author of Njinga of Ndongo and Matamba \nErica Asante\, author of Threads of Me; Kente for Show and Tell \nOmobola Imoisili\, creator of Teni & Tayo Creations
URL:https://staging.blackbabybooks.com/event/telling-african-stories-in-childrens-books/
LOCATION:IG LIVE
CATEGORIES:Panel,Virtual
ATTACH;FMTTYPE=image/png:https://staging.blackbabybooks.com/wp-content/uploads/2023/02/Yellow-Brown-Africa-Day-Poster-2.png
ORGANIZER;CN="Evelyn Logan Writes":MAILTO:evelyn@evelynloganwrites.com
END:VEVENT
END:VCALENDAR