BEGIN:VCALENDAR
VERSION:2.0
PRODID:-//Staging BBB - ECPv6.15.20//NONSGML v1.0//EN
CALSCALE:GREGORIAN
METHOD:PUBLISH
X-WR-CALNAME:Staging BBB
X-ORIGINAL-URL:https://staging.blackbabybooks.com
X-WR-CALDESC:Events for Staging BBB
REFRESH-INTERVAL;VALUE=DURATION:PT1H
X-Robots-Tag:noindex
X-PUBLISHED-TTL:PT1H
BEGIN:VTIMEZONE
TZID:America/Los_Angeles
BEGIN:DAYLIGHT
TZOFFSETFROM:-0800
TZOFFSETTO:-0700
TZNAME:PDT
DTSTART:20210314T100000
END:DAYLIGHT
BEGIN:STANDARD
TZOFFSETFROM:-0700
TZOFFSETTO:-0800
TZNAME:PST
DTSTART:20211107T090000
END:STANDARD
BEGIN:DAYLIGHT
TZOFFSETFROM:-0800
TZOFFSETTO:-0700
TZNAME:PDT
DTSTART:20220313T100000
END:DAYLIGHT
BEGIN:STANDARD
TZOFFSETFROM:-0700
TZOFFSETTO:-0800
TZNAME:PST
DTSTART:20221106T090000
END:STANDARD
BEGIN:DAYLIGHT
TZOFFSETFROM:-0800
TZOFFSETTO:-0700
TZNAME:PDT
DTSTART:20230312T100000
END:DAYLIGHT
BEGIN:STANDARD
TZOFFSETFROM:-0700
TZOFFSETTO:-0800
TZNAME:PST
DTSTART:20231105T090000
END:STANDARD
END:VTIMEZONE
BEGIN:VEVENT
DTSTART;TZID=America/Los_Angeles:20220227T080000
DTEND;TZID=America/Los_Angeles:20220305T170000
DTSTAMP:20260421T061442
CREATED:20220224T233439Z
LAST-MODIFIED:20220224T233439Z
UID:10001432-1645948800-1646499600@staging.blackbabybooks.com
SUMMARY:Lane ESD- Lane AABSS Book Drive
DESCRIPTION:The staff of Lane ESD and our school districts\, community organizations and community members will be purchasing newly purchased books written by African American and Black others that will be donated to schools and business entities in Lane County Oregon.
URL:https://staging.blackbabybooks.com/event/lane-esd-lane-aabss-book-drive/
LOCATION:Lane ESD Main Office\, 1200 Highway 99 North\, Eugene\, OR\, 97402\, United States
CATEGORIES:Children's Book Reading
ATTACH;FMTTYPE=image/png:https://staging.blackbabybooks.com/wp-content/uploads/2022/02/BCBW-2022-BOOK-DONATION-1-1.png
ORGANIZER;CN="Lane ESD- Lane AABSS Program":MAILTO:laneaabss@lesd.k12.or.us
END:VEVENT
END:VCALENDAR