BEGIN:VCALENDAR
VERSION:2.0
PRODID:-//Staging BBB - ECPv6.15.20//NONSGML v1.0//EN
CALSCALE:GREGORIAN
METHOD:PUBLISH
X-ORIGINAL-URL:https://staging.blackbabybooks.com
X-WR-CALDESC:Events for Staging BBB
REFRESH-INTERVAL;VALUE=DURATION:PT1H
X-Robots-Tag:noindex
X-PUBLISHED-TTL:PT1H
BEGIN:VTIMEZONE
TZID:America/New_York
BEGIN:DAYLIGHT
TZOFFSETFROM:-0500
TZOFFSETTO:-0400
TZNAME:EDT
DTSTART:20220313T070000
END:DAYLIGHT
BEGIN:STANDARD
TZOFFSETFROM:-0400
TZOFFSETTO:-0500
TZNAME:EST
DTSTART:20221106T060000
END:STANDARD
BEGIN:DAYLIGHT
TZOFFSETFROM:-0500
TZOFFSETTO:-0400
TZNAME:EDT
DTSTART:20230312T070000
END:DAYLIGHT
BEGIN:STANDARD
TZOFFSETFROM:-0400
TZOFFSETTO:-0500
TZNAME:EST
DTSTART:20231105T060000
END:STANDARD
BEGIN:DAYLIGHT
TZOFFSETFROM:-0500
TZOFFSETTO:-0400
TZNAME:EDT
DTSTART:20240310T070000
END:DAYLIGHT
BEGIN:STANDARD
TZOFFSETFROM:-0400
TZOFFSETTO:-0500
TZNAME:EST
DTSTART:20241103T060000
END:STANDARD
END:VTIMEZONE
BEGIN:VEVENT
DTSTART;TZID=America/New_York:20230226T143000
DTEND;TZID=America/New_York:20230226T150000
DTSTAMP:20260420T191744
CREATED:20230206T160238Z
LAST-MODIFIED:20230206T160238Z
UID:10002185-1677421800-1677423600@staging.blackbabybooks.com
SUMMARY:Kidogo's Storytime Live!
DESCRIPTION:Join us at the Museum of Science\, Boston for a storytime and crafts! Aunt Kay will read her book\, “The Shapes Family” and then the Museum of Science will lead into a fun craft project about shapes!
URL:https://staging.blackbabybooks.com/event/kidogos-storytime-live/
LOCATION:Museum of Science\, Boston\, 1 Museum Of Science Driveway\, Boston\, MA 02114\, Boston\, MA\, 02114\, United States
CATEGORIES:Children's Book Reading,In-Person
ATTACH;FMTTYPE=image/jpeg:https://staging.blackbabybooks.com/wp-content/uploads/2023/02/1MOSBCBW-Flyer23.jpg
ORGANIZER;CN="Kidogo Productions":MAILTO:info@kidogoproductions.com
END:VEVENT
END:VCALENDAR