BEGIN:VCALENDAR
VERSION:2.0
PRODID:-//Staging BBB - ECPv6.15.20//NONSGML v1.0//EN
CALSCALE:GREGORIAN
METHOD:PUBLISH
X-WR-CALNAME:Staging BBB
X-ORIGINAL-URL:https://staging.blackbabybooks.com
X-WR-CALDESC:Events for Staging BBB
REFRESH-INTERVAL;VALUE=DURATION:PT1H
X-Robots-Tag:noindex
X-PUBLISHED-TTL:PT1H
BEGIN:VTIMEZONE
TZID:America/Chicago
BEGIN:DAYLIGHT
TZOFFSETFROM:-0600
TZOFFSETTO:-0500
TZNAME:CDT
DTSTART:20210314T080000
END:DAYLIGHT
BEGIN:STANDARD
TZOFFSETFROM:-0500
TZOFFSETTO:-0600
TZNAME:CST
DTSTART:20211107T070000
END:STANDARD
BEGIN:DAYLIGHT
TZOFFSETFROM:-0600
TZOFFSETTO:-0500
TZNAME:CDT
DTSTART:20220313T080000
END:DAYLIGHT
BEGIN:STANDARD
TZOFFSETFROM:-0500
TZOFFSETTO:-0600
TZNAME:CST
DTSTART:20221106T070000
END:STANDARD
BEGIN:DAYLIGHT
TZOFFSETFROM:-0600
TZOFFSETTO:-0500
TZNAME:CDT
DTSTART:20230312T080000
END:DAYLIGHT
BEGIN:STANDARD
TZOFFSETFROM:-0500
TZOFFSETTO:-0600
TZNAME:CST
DTSTART:20231105T070000
END:STANDARD
END:VTIMEZONE
BEGIN:VEVENT
DTSTART;TZID=America/Chicago:20220305T110000
DTEND;TZID=America/Chicago:20220305T120000
DTSTAMP:20260420T163625
CREATED:20220221T042434Z
LAST-MODIFIED:20220224T234526Z
UID:10002150-1646478000-1646481600@staging.blackbabybooks.com
SUMMARY:Story Time with Mother Dove
DESCRIPTION:Celebrate Black Children’s Book Week! \nPlease join author Theresa Hickman for a free\, open to the public book reading of her debut children’s book: I Can… Just Try! \nYou don’t want to miss out on this event. \nMark your calendars and come join Theresa\, Saturday\, March 5th at 11am- 12pm for Story Time with Mother Doves Academy at the North Austin Library. Location is 5724 W. North Ave. Chicago\, IL 60639. \nThere will be enrichment activities following the reading. Registration is required. Masks are required! \nSee you there!!! \nI Can…Just Try!: I Can Just Try! is available on Amazon as well at https://www.amazon.com/dp/B09LGWWW4L
URL:https://staging.blackbabybooks.com/event/story-time-with-mother-dove/
LOCATION:North Austin Library\, 5724 W. North Ave.\, Chicago\, IL\, 60639
ATTACH;FMTTYPE=image/jpeg:https://staging.blackbabybooks.com/wp-content/uploads/2022/02/Story-Time-with-Mother-Dove-1-3-1-1.jpg
END:VEVENT
END:VCALENDAR