BEGIN:VCALENDAR
VERSION:2.0
PRODID:-//Staging BBB - ECPv6.15.20//NONSGML v1.0//EN
CALSCALE:GREGORIAN
METHOD:PUBLISH
X-WR-CALNAME:Staging BBB
X-ORIGINAL-URL:https://staging.blackbabybooks.com
X-WR-CALDESC:Events for Staging BBB
REFRESH-INTERVAL;VALUE=DURATION:PT1H
X-Robots-Tag:noindex
X-PUBLISHED-TTL:PT1H
BEGIN:VTIMEZONE
TZID:America/New_York
BEGIN:DAYLIGHT
TZOFFSETFROM:-0500
TZOFFSETTO:-0400
TZNAME:EDT
DTSTART:20220313T070000
END:DAYLIGHT
BEGIN:STANDARD
TZOFFSETFROM:-0400
TZOFFSETTO:-0500
TZNAME:EST
DTSTART:20221106T060000
END:STANDARD
BEGIN:DAYLIGHT
TZOFFSETFROM:-0500
TZOFFSETTO:-0400
TZNAME:EDT
DTSTART:20230312T070000
END:DAYLIGHT
BEGIN:STANDARD
TZOFFSETFROM:-0400
TZOFFSETTO:-0500
TZNAME:EST
DTSTART:20231105T060000
END:STANDARD
BEGIN:DAYLIGHT
TZOFFSETFROM:-0500
TZOFFSETTO:-0400
TZNAME:EDT
DTSTART:20240310T070000
END:DAYLIGHT
BEGIN:STANDARD
TZOFFSETFROM:-0400
TZOFFSETTO:-0500
TZNAME:EST
DTSTART:20241103T060000
END:STANDARD
END:VTIMEZONE
BEGIN:VEVENT
DTSTART;TZID=America/New_York:20230304T143000
DTEND;TZID=America/New_York:20230304T160000
DTSTAMP:20260420T095753
CREATED:20230215T023609Z
LAST-MODIFIED:20230215T023609Z
UID:10002226-1677940200-1677945600@staging.blackbabybooks.com
SUMMARY:Story Time and Book Signing
DESCRIPTION:Pen To Paper Your Magic and Janelle London are celebrating Black Children’s Book Week with a free story time reading of London’s Children’s book\, ‘The Greatness Within’. Join us for story time\, author book signings and craft activities for kids.
URL:https://staging.blackbabybooks.com/event/story-time-and-book-signing/
LOCATION:Pen To Paper Your Magic\, 1987 Scenic Hwy N Suite 211\, Snellville\, GA\, 30078\, United States
ATTACH;FMTTYPE=image/jpeg:https://staging.blackbabybooks.com/wp-content/uploads/2023/02/print-version.jpg
END:VEVENT
END:VCALENDAR