BEGIN:VCALENDAR
VERSION:2.0
PRODID:-//Staging BBB - ECPv6.15.20//NONSGML v1.0//EN
CALSCALE:GREGORIAN
METHOD:PUBLISH
X-WR-CALNAME:Staging BBB
X-ORIGINAL-URL:https://staging.blackbabybooks.com
X-WR-CALDESC:Events for Staging BBB
REFRESH-INTERVAL;VALUE=DURATION:PT1H
X-Robots-Tag:noindex
X-PUBLISHED-TTL:PT1H
BEGIN:VTIMEZONE
TZID:America/New_York
BEGIN:DAYLIGHT
TZOFFSETFROM:-0500
TZOFFSETTO:-0400
TZNAME:EDT
DTSTART:20220313T070000
END:DAYLIGHT
BEGIN:STANDARD
TZOFFSETFROM:-0400
TZOFFSETTO:-0500
TZNAME:EST
DTSTART:20221106T060000
END:STANDARD
BEGIN:DAYLIGHT
TZOFFSETFROM:-0500
TZOFFSETTO:-0400
TZNAME:EDT
DTSTART:20230312T070000
END:DAYLIGHT
BEGIN:STANDARD
TZOFFSETFROM:-0400
TZOFFSETTO:-0500
TZNAME:EST
DTSTART:20231105T060000
END:STANDARD
BEGIN:DAYLIGHT
TZOFFSETFROM:-0500
TZOFFSETTO:-0400
TZNAME:EDT
DTSTART:20240310T070000
END:DAYLIGHT
BEGIN:STANDARD
TZOFFSETFROM:-0400
TZOFFSETTO:-0500
TZNAME:EST
DTSTART:20241103T060000
END:STANDARD
END:VTIMEZONE
BEGIN:VEVENT
DTSTART;TZID=America/New_York:20230225T140000
DTEND;TZID=America/New_York:20230225T150000
DTSTAMP:20260420T141901
CREATED:20230220T033252Z
LAST-MODIFIED:20230220T033252Z
UID:10002246-1677333600-1677337200@staging.blackbabybooks.com
SUMMARY:Sonny’s Long Walk Home-An Afternoon with Deya Jacobs-Adams
DESCRIPTION:Join us as author Deya Jacobs-Adams reads her book “Sonny’s Long Walk Home\,” talks about the writing and publishing process\, introduces us to Sonny Willis the puppet\, and teaches a song. Her message is simple “Always Believe I Can.”
URL:https://staging.blackbabybooks.com/event/sonnys-long-walk-home-an-afternoon-with-deya-jacobs-adams/
LOCATION:Ralph Ellison Library  2000 NE 23rd Street Oklahoma City\, OK 73111\, 2000 NE 23rd Street\, Oklahoma City\, 73111\, United States
ATTACH;FMTTYPE=image/jpeg:https://staging.blackbabybooks.com/wp-content/uploads/2023/02/20978A30-555E-4520-B21D-524A9501A272.jpeg
END:VEVENT
END:VCALENDAR