BEGIN:VCALENDAR
VERSION:2.0
PRODID:-//Staging BBB - ECPv6.15.20//NONSGML v1.0//EN
CALSCALE:GREGORIAN
METHOD:PUBLISH
X-WR-CALNAME:Staging BBB
X-ORIGINAL-URL:https://staging.blackbabybooks.com
X-WR-CALDESC:Events for Staging BBB
REFRESH-INTERVAL;VALUE=DURATION:PT1H
X-Robots-Tag:noindex
X-PUBLISHED-TTL:PT1H
BEGIN:VTIMEZONE
TZID:America/New_York
BEGIN:DAYLIGHT
TZOFFSETFROM:-0500
TZOFFSETTO:-0400
TZNAME:EDT
DTSTART:20220313T070000
END:DAYLIGHT
BEGIN:STANDARD
TZOFFSETFROM:-0400
TZOFFSETTO:-0500
TZNAME:EST
DTSTART:20221106T060000
END:STANDARD
BEGIN:DAYLIGHT
TZOFFSETFROM:-0500
TZOFFSETTO:-0400
TZNAME:EDT
DTSTART:20230312T070000
END:DAYLIGHT
BEGIN:STANDARD
TZOFFSETFROM:-0400
TZOFFSETTO:-0500
TZNAME:EST
DTSTART:20231105T060000
END:STANDARD
BEGIN:DAYLIGHT
TZOFFSETFROM:-0500
TZOFFSETTO:-0400
TZNAME:EDT
DTSTART:20240310T070000
END:DAYLIGHT
BEGIN:STANDARD
TZOFFSETFROM:-0400
TZOFFSETTO:-0500
TZNAME:EST
DTSTART:20241103T060000
END:STANDARD
END:VTIMEZONE
BEGIN:VTIMEZONE
TZID:America/Chicago
BEGIN:DAYLIGHT
TZOFFSETFROM:-0600
TZOFFSETTO:-0500
TZNAME:CDT
DTSTART:20220313T080000
END:DAYLIGHT
BEGIN:STANDARD
TZOFFSETFROM:-0500
TZOFFSETTO:-0600
TZNAME:CST
DTSTART:20221106T070000
END:STANDARD
BEGIN:DAYLIGHT
TZOFFSETFROM:-0600
TZOFFSETTO:-0500
TZNAME:CDT
DTSTART:20230312T080000
END:DAYLIGHT
BEGIN:STANDARD
TZOFFSETFROM:-0500
TZOFFSETTO:-0600
TZNAME:CST
DTSTART:20231105T070000
END:STANDARD
BEGIN:DAYLIGHT
TZOFFSETFROM:-0600
TZOFFSETTO:-0500
TZNAME:CDT
DTSTART:20240310T080000
END:DAYLIGHT
BEGIN:STANDARD
TZOFFSETFROM:-0500
TZOFFSETTO:-0600
TZNAME:CST
DTSTART:20241103T070000
END:STANDARD
END:VTIMEZONE
BEGIN:VTIMEZONE
TZID:UTC
BEGIN:STANDARD
TZOFFSETFROM:+0000
TZOFFSETTO:+0000
TZNAME:UTC
DTSTART:20220101T000000
END:STANDARD
END:VTIMEZONE
BEGIN:VTIMEZONE
TZID:Atlantic/South_Georgia
BEGIN:STANDARD
TZOFFSETFROM:-0200
TZOFFSETTO:-0200
TZNAME:-02
DTSTART:20220101T000000
END:STANDARD
END:VTIMEZONE
BEGIN:VEVENT
DTSTART;TZID=America/New_York:20230304T200000
DTEND;TZID=America/New_York:20230304T203000
DTSTAMP:20260420T103509
CREATED:20230209T174751Z
LAST-MODIFIED:20230209T174751Z
UID:10002204-1677960000-1677961800@staging.blackbabybooks.com
SUMMARY:Bedtime Stories Featuring Crystal Jordan \, Jasmine Hawkins \, AJ Kikumoto \, D.M. Whitaker
DESCRIPTION:Get ready for bedtime stories and engaging activities during Black Children’s Book Week every night at 6:00 pm MST\, 7:00 pm CST\, and 8:00 pm EST. Each day\, you can increase your chances of winning prizes by listening to the daily keyword. You will need to listen for the keyword\, interact with the author\, and comment on the word in order to enter our big giveaway\, which will be held on Saturday night.\n\nWants to purchase our books: www.amazon.com/hz/wishlist/ls/2TEAUX5U4X6QT?ref_=wl_share\n\n\n\nFebruary 26 – March 4\n\n\nWatch Us Here: https://www.youtube.com/watch?v=u0ZaavaJFXU…\n\n\nHere is our Schedule\nAll readings and days are 15 minutes to 30 minutes one author per day.\n\n\nEvery author day\, we can collect emails for a giveaway hosted by the author.\n\n\n2/26 Sunday – Meet and Greet the authors for 45 minutes\n2/27 Monday – D.M. Whitaker reading The Potty Monster: Girls Potty Training with Courage\n2/28 Tuesday – Jasmine Hawkins reading Jason Becomes a Hero\n3/1 Wednesday – Crystal reading Just Like You an Autism Awareness Children’s Book\n3/2 Thursday – AJ Kikumoto reading Uniquely Me: A Poem Celebrating Individuality by Sheryl Prince\n3/3 Friday – Create your own story\nPlease Purchase these books to be ready to write your own story.\n\n\n* http://www.amazon.com/Write-Your-Story…/dp/1959734008/\n\n\n* http://www.amazon.com/Unicorns-Draw-Write…/dp/B0BTRMDMMQ?\n\n\n3/4 Saturday – Crystal reads I Am Auesome Positive Affirmations for Autistic Children: Autism Awareness Book\n\n\nThe big giveaway party. Full of Dancing Party will last 30 minutes\nThroughout the week we have a word for each day. They must comment on the word and each word is an entry. On Saturday we will do the spin the wheel.\n\n\nLive Stream powered by Stream Yard: https://streamyard.com?pal=4745915366113280
URL:https://staging.blackbabybooks.com/event/bedtime-stories-featuring-crystal-jordan-jasmine-hawkins-aj-kikumoto-d-m-whitaker/2023-03-04/
LOCATION:Virtual
ATTACH;FMTTYPE=image/jpeg:https://staging.blackbabybooks.com/wp-content/uploads/2023/02/329911416_1289174981665027_9117370901375672276_n.jpg
ORGANIZER;CN="Crystal Jordan Zachariah World":MAILTO:crystaljordan@zachariahworld.com
END:VEVENT
BEGIN:VEVENT
DTSTART;TZID=America/New_York:20230303T200000
DTEND;TZID=America/New_York:20230303T203000
DTSTAMP:20260420T103509
CREATED:20230209T174751Z
LAST-MODIFIED:20230209T174751Z
UID:10002203-1677873600-1677875400@staging.blackbabybooks.com
SUMMARY:Bedtime Stories Featuring Crystal Jordan \, Jasmine Hawkins \, AJ Kikumoto \, D.M. Whitaker
DESCRIPTION:Get ready for bedtime stories and engaging activities during Black Children’s Book Week every night at 6:00 pm MST\, 7:00 pm CST\, and 8:00 pm EST. Each day\, you can increase your chances of winning prizes by listening to the daily keyword. You will need to listen for the keyword\, interact with the author\, and comment on the word in order to enter our big giveaway\, which will be held on Saturday night.\n\nWants to purchase our books: www.amazon.com/hz/wishlist/ls/2TEAUX5U4X6QT?ref_=wl_share\n\n\n\nFebruary 26 – March 4\n\n\nWatch Us Here: https://www.youtube.com/watch?v=u0ZaavaJFXU…\n\n\nHere is our Schedule\nAll readings and days are 15 minutes to 30 minutes one author per day.\n\n\nEvery author day\, we can collect emails for a giveaway hosted by the author.\n\n\n2/26 Sunday – Meet and Greet the authors for 45 minutes\n2/27 Monday – D.M. Whitaker reading The Potty Monster: Girls Potty Training with Courage\n2/28 Tuesday – Jasmine Hawkins reading Jason Becomes a Hero\n3/1 Wednesday – Crystal reading Just Like You an Autism Awareness Children’s Book\n3/2 Thursday – AJ Kikumoto reading Uniquely Me: A Poem Celebrating Individuality by Sheryl Prince\n3/3 Friday – Create your own story\nPlease Purchase these books to be ready to write your own story.\n\n\n* http://www.amazon.com/Write-Your-Story…/dp/1959734008/\n\n\n* http://www.amazon.com/Unicorns-Draw-Write…/dp/B0BTRMDMMQ?\n\n\n3/4 Saturday – Crystal reads I Am Auesome Positive Affirmations for Autistic Children: Autism Awareness Book\n\n\nThe big giveaway party. Full of Dancing Party will last 30 minutes\nThroughout the week we have a word for each day. They must comment on the word and each word is an entry. On Saturday we will do the spin the wheel.\n\n\nLive Stream powered by Stream Yard: https://streamyard.com?pal=4745915366113280
URL:https://staging.blackbabybooks.com/event/bedtime-stories-featuring-crystal-jordan-jasmine-hawkins-aj-kikumoto-d-m-whitaker/2023-03-03/
LOCATION:Virtual
ATTACH;FMTTYPE=image/jpeg:https://staging.blackbabybooks.com/wp-content/uploads/2023/02/329911416_1289174981665027_9117370901375672276_n.jpg
ORGANIZER;CN="Crystal Jordan Zachariah World":MAILTO:crystaljordan@zachariahworld.com
END:VEVENT
BEGIN:VEVENT
DTSTART;TZID=America/New_York:20230303T190000
DTEND;TZID=America/New_York:20230303T200000
DTSTAMP:20260420T103509
CREATED:20230215T020433Z
LAST-MODIFIED:20230215T020433Z
UID:10002212-1677870000-1677873600@staging.blackbabybooks.com
SUMMARY:BLACK CHILDREN'S BOOKS IN SPECIAL EDUCATION
DESCRIPTION:Join Black Children’s Book authors Leenadria F. and Augustine Charles with special guest Mrs. Funbooks to discuss the importance of black children’s book in special education. \nLeenadria F. is Executive Director of Other Side of the Wall Pediatric Brain Tumor Association and is the author of Brother’s Day Out which focuses on creating joyful moments between siblings and peers when one has developmental challenges. \nAugustine Charles (aka Nfinite Threat) is Co-Founder of Other Side of the Wall Pediatric Brain Tumor Association\, Advocate for equity\, and author of Charlie’s Adventures: The Cloud Kingdom which uses a magical story centered around a black child to teach children about cloud science \nMrs. Funbooks (aka Kathleen Boo) has been a Special Educator and tutor for more than 20 years known for having breakthroughs with children with significant learning disabilities. She is the architect of Mrs. Funbooks\, a character who loves sharing her joy for reading\, tips for struggling readers\, and building an awareness of the Special Needs community.  Kathleen and Mrs. Funbooks are always hopeful because anything is possible.
URL:https://staging.blackbabybooks.com/event/black-childrens-books-in-special-education/
LOCATION:Virtual
CATEGORIES:Panel,Virtual
ATTACH;FMTTYPE=image/png:https://staging.blackbabybooks.com/wp-content/uploads/2023/02/BLACKCHILDRENSBOOKWEEK1.png
ORGANIZER;CN="LEENADRIA F.":MAILTO:LEE@HOPEWELLPUBLISHING.COM
END:VEVENT
BEGIN:VEVENT
DTSTART;TZID=America/New_York:20230302T200000
DTEND;TZID=America/New_York:20230302T203000
DTSTAMP:20260420T103509
CREATED:20230209T174751Z
LAST-MODIFIED:20230209T174751Z
UID:10002202-1677787200-1677789000@staging.blackbabybooks.com
SUMMARY:Bedtime Stories Featuring Crystal Jordan \, Jasmine Hawkins \, AJ Kikumoto \, D.M. Whitaker
DESCRIPTION:Get ready for bedtime stories and engaging activities during Black Children’s Book Week every night at 6:00 pm MST\, 7:00 pm CST\, and 8:00 pm EST. Each day\, you can increase your chances of winning prizes by listening to the daily keyword. You will need to listen for the keyword\, interact with the author\, and comment on the word in order to enter our big giveaway\, which will be held on Saturday night.\n\nWants to purchase our books: www.amazon.com/hz/wishlist/ls/2TEAUX5U4X6QT?ref_=wl_share\n\n\n\nFebruary 26 – March 4\n\n\nWatch Us Here: https://www.youtube.com/watch?v=u0ZaavaJFXU…\n\n\nHere is our Schedule\nAll readings and days are 15 minutes to 30 minutes one author per day.\n\n\nEvery author day\, we can collect emails for a giveaway hosted by the author.\n\n\n2/26 Sunday – Meet and Greet the authors for 45 minutes\n2/27 Monday – D.M. Whitaker reading The Potty Monster: Girls Potty Training with Courage\n2/28 Tuesday – Jasmine Hawkins reading Jason Becomes a Hero\n3/1 Wednesday – Crystal reading Just Like You an Autism Awareness Children’s Book\n3/2 Thursday – AJ Kikumoto reading Uniquely Me: A Poem Celebrating Individuality by Sheryl Prince\n3/3 Friday – Create your own story\nPlease Purchase these books to be ready to write your own story.\n\n\n* http://www.amazon.com/Write-Your-Story…/dp/1959734008/\n\n\n* http://www.amazon.com/Unicorns-Draw-Write…/dp/B0BTRMDMMQ?\n\n\n3/4 Saturday – Crystal reads I Am Auesome Positive Affirmations for Autistic Children: Autism Awareness Book\n\n\nThe big giveaway party. Full of Dancing Party will last 30 minutes\nThroughout the week we have a word for each day. They must comment on the word and each word is an entry. On Saturday we will do the spin the wheel.\n\n\nLive Stream powered by Stream Yard: https://streamyard.com?pal=4745915366113280
URL:https://staging.blackbabybooks.com/event/bedtime-stories-featuring-crystal-jordan-jasmine-hawkins-aj-kikumoto-d-m-whitaker/2023-03-02/
LOCATION:Virtual
ATTACH;FMTTYPE=image/jpeg:https://staging.blackbabybooks.com/wp-content/uploads/2023/02/329911416_1289174981665027_9117370901375672276_n.jpg
ORGANIZER;CN="Crystal Jordan Zachariah World":MAILTO:crystaljordan@zachariahworld.com
END:VEVENT
BEGIN:VEVENT
DTSTART;TZID=America/New_York:20230301T200000
DTEND;TZID=America/New_York:20230301T203000
DTSTAMP:20260420T103509
CREATED:20230209T174751Z
LAST-MODIFIED:20230209T174751Z
UID:10002201-1677700800-1677702600@staging.blackbabybooks.com
SUMMARY:Bedtime Stories Featuring Crystal Jordan \, Jasmine Hawkins \, AJ Kikumoto \, D.M. Whitaker
DESCRIPTION:Get ready for bedtime stories and engaging activities during Black Children’s Book Week every night at 6:00 pm MST\, 7:00 pm CST\, and 8:00 pm EST. Each day\, you can increase your chances of winning prizes by listening to the daily keyword. You will need to listen for the keyword\, interact with the author\, and comment on the word in order to enter our big giveaway\, which will be held on Saturday night.\n\nWants to purchase our books: www.amazon.com/hz/wishlist/ls/2TEAUX5U4X6QT?ref_=wl_share\n\n\n\nFebruary 26 – March 4\n\n\nWatch Us Here: https://www.youtube.com/watch?v=u0ZaavaJFXU…\n\n\nHere is our Schedule\nAll readings and days are 15 minutes to 30 minutes one author per day.\n\n\nEvery author day\, we can collect emails for a giveaway hosted by the author.\n\n\n2/26 Sunday – Meet and Greet the authors for 45 minutes\n2/27 Monday – D.M. Whitaker reading The Potty Monster: Girls Potty Training with Courage\n2/28 Tuesday – Jasmine Hawkins reading Jason Becomes a Hero\n3/1 Wednesday – Crystal reading Just Like You an Autism Awareness Children’s Book\n3/2 Thursday – AJ Kikumoto reading Uniquely Me: A Poem Celebrating Individuality by Sheryl Prince\n3/3 Friday – Create your own story\nPlease Purchase these books to be ready to write your own story.\n\n\n* http://www.amazon.com/Write-Your-Story…/dp/1959734008/\n\n\n* http://www.amazon.com/Unicorns-Draw-Write…/dp/B0BTRMDMMQ?\n\n\n3/4 Saturday – Crystal reads I Am Auesome Positive Affirmations for Autistic Children: Autism Awareness Book\n\n\nThe big giveaway party. Full of Dancing Party will last 30 minutes\nThroughout the week we have a word for each day. They must comment on the word and each word is an entry. On Saturday we will do the spin the wheel.\n\n\nLive Stream powered by Stream Yard: https://streamyard.com?pal=4745915366113280
URL:https://staging.blackbabybooks.com/event/bedtime-stories-featuring-crystal-jordan-jasmine-hawkins-aj-kikumoto-d-m-whitaker/2023-03-01/
LOCATION:Virtual
ATTACH;FMTTYPE=image/jpeg:https://staging.blackbabybooks.com/wp-content/uploads/2023/02/329911416_1289174981665027_9117370901375672276_n.jpg
ORGANIZER;CN="Crystal Jordan Zachariah World":MAILTO:crystaljordan@zachariahworld.com
END:VEVENT
BEGIN:VEVENT
DTSTART;TZID=America/Chicago:20230301T130000
DTEND;TZID=America/Chicago:20230301T140000
DTSTAMP:20260420T103509
CREATED:20230210T231624Z
LAST-MODIFIED:20230301T010556Z
UID:10002210-1677675600-1677679200@staging.blackbabybooks.com
SUMMARY:The Power of Black Women in the Book World
DESCRIPTION:Join us on YouTube Live for this special Black Children’s Book Week event! \nBlack children’s books are under attack now more than ever. It feels like every day\, another Black book is banned–which means another Black child goes unseen. \nBlack women are at the forefront of many social movements–including mobilizing to champion Black children’s books in the publishing world. \nIn this roundtable discussion\, hear from: \n\nNekima Levy Armstrong\, author of J is for Justice\nTiffany Baker\, illustrator of J is for Justice\nTitilayo Bediako\, literary advocate and executive director of WE WIN\nMary Strive\, publisher and bookstore owner of Strive Publishing and Bookstore\nCrown Shepherd\, publisher\, bookseller at Liberate Your Bookshelf\, and author of the children’s books Black Boy\, Black Boy and Black Girl\, Black Girl\n\nTune in to see how powerful a movement can be when Black women mobilize to drive change through Black children’s books.   \n————— \nBlack Children’s Book Week is created to raise the vibration in the world for Black children so they feel an extra dose of love by seeing themselves represented and celebrated. Visit their Instagram and website learn about the great events included in this celebration! Big thanks to Veronica N. Chapman\, founder of Black Baby Books and Boxxout Enterprises\, for dreaming this into existence.
URL:https://staging.blackbabybooks.com/event/the-power-of-black-women-in-the-book-world/
LOCATION:Virtual
ATTACH;FMTTYPE=image/png:https://staging.blackbabybooks.com/wp-content/uploads/2023/02/3122-at-200-p.m.-CST-3-1.png
ORGANIZER;CN="Wise Ink Creative Publishing":MAILTO:hanna@wiseink.com
END:VEVENT
BEGIN:VEVENT
DTSTART;TZID=UTC:20230301T130000
DTEND;TZID=UTC:20230301T140000
DTSTAMP:20260420T103509
CREATED:20230208T164429Z
LAST-MODIFIED:20230209T175459Z
UID:10002193-1677675600-1677679200@staging.blackbabybooks.com
SUMMARY:Uniting Africa with the Diaspora Through Children’s Literature
DESCRIPTION:Join us for a panel discussion between four African authors. This event is to celebrate and highlight children’s books as a unifier of African cultures and Black children around the world.
URL:https://staging.blackbabybooks.com/event/uniting-africa-with-the-diaspora-through-childrens-literature/
LOCATION:Virtual
CATEGORIES:Panel,Virtual
ATTACH;FMTTYPE=image/png:https://staging.blackbabybooks.com/wp-content/uploads/2023/02/BCBW-Flyer-square.png
END:VEVENT
BEGIN:VEVENT
DTSTART;TZID=America/New_York:20230228T200000
DTEND;TZID=America/New_York:20230228T203000
DTSTAMP:20260420T103509
CREATED:20230209T174751Z
LAST-MODIFIED:20230209T174751Z
UID:10002200-1677614400-1677616200@staging.blackbabybooks.com
SUMMARY:Bedtime Stories Featuring Crystal Jordan \, Jasmine Hawkins \, AJ Kikumoto \, D.M. Whitaker
DESCRIPTION:Get ready for bedtime stories and engaging activities during Black Children’s Book Week every night at 6:00 pm MST\, 7:00 pm CST\, and 8:00 pm EST. Each day\, you can increase your chances of winning prizes by listening to the daily keyword. You will need to listen for the keyword\, interact with the author\, and comment on the word in order to enter our big giveaway\, which will be held on Saturday night.\n\nWants to purchase our books: www.amazon.com/hz/wishlist/ls/2TEAUX5U4X6QT?ref_=wl_share\n\n\n\nFebruary 26 – March 4\n\n\nWatch Us Here: https://www.youtube.com/watch?v=u0ZaavaJFXU…\n\n\nHere is our Schedule\nAll readings and days are 15 minutes to 30 minutes one author per day.\n\n\nEvery author day\, we can collect emails for a giveaway hosted by the author.\n\n\n2/26 Sunday – Meet and Greet the authors for 45 minutes\n2/27 Monday – D.M. Whitaker reading The Potty Monster: Girls Potty Training with Courage\n2/28 Tuesday – Jasmine Hawkins reading Jason Becomes a Hero\n3/1 Wednesday – Crystal reading Just Like You an Autism Awareness Children’s Book\n3/2 Thursday – AJ Kikumoto reading Uniquely Me: A Poem Celebrating Individuality by Sheryl Prince\n3/3 Friday – Create your own story\nPlease Purchase these books to be ready to write your own story.\n\n\n* http://www.amazon.com/Write-Your-Story…/dp/1959734008/\n\n\n* http://www.amazon.com/Unicorns-Draw-Write…/dp/B0BTRMDMMQ?\n\n\n3/4 Saturday – Crystal reads I Am Auesome Positive Affirmations for Autistic Children: Autism Awareness Book\n\n\nThe big giveaway party. Full of Dancing Party will last 30 minutes\nThroughout the week we have a word for each day. They must comment on the word and each word is an entry. On Saturday we will do the spin the wheel.\n\n\nLive Stream powered by Stream Yard: https://streamyard.com?pal=4745915366113280
URL:https://staging.blackbabybooks.com/event/bedtime-stories-featuring-crystal-jordan-jasmine-hawkins-aj-kikumoto-d-m-whitaker/2023-02-28/
LOCATION:Virtual
ATTACH;FMTTYPE=image/jpeg:https://staging.blackbabybooks.com/wp-content/uploads/2023/02/329911416_1289174981665027_9117370901375672276_n.jpg
ORGANIZER;CN="Crystal Jordan Zachariah World":MAILTO:crystaljordan@zachariahworld.com
END:VEVENT
BEGIN:VEVENT
DTSTART;TZID=America/New_York:20230228T190000
DTEND;TZID=America/New_York:20230228T200000
DTSTAMP:20260420T103509
CREATED:20230201T181724Z
LAST-MODIFIED:20230201T181724Z
UID:10002176-1677610800-1677614400@staging.blackbabybooks.com
SUMMARY:BEDTIME STORY HOUR - THE CHARLOTTE EDITION
DESCRIPTION:“Bedtime Story Hour – The Charlotte Edition” is hosted by local authors in Charlotte\, NC. During our live virtual event\, authors Denisha Branch\, KP Carter\, mother and daughter -Syrina & Sydney Rice\, and Christopher Singleton\, will read excerpts from their books.
URL:https://staging.blackbabybooks.com/event/bedtime-story-hour-the-charlotte-edition/
LOCATION:Virtual
CATEGORIES:Children's Book Reading,Virtual
ATTACH;FMTTYPE=image/jpeg:https://staging.blackbabybooks.com/wp-content/uploads/2023/02/Final_Bedtime-Reading-Panel-Post-1.jpg
END:VEVENT
BEGIN:VEVENT
DTSTART;TZID=America/New_York:20230227T200000
DTEND;TZID=America/New_York:20230227T203000
DTSTAMP:20260420T103509
CREATED:20230209T174751Z
LAST-MODIFIED:20230209T174751Z
UID:10002199-1677528000-1677529800@staging.blackbabybooks.com
SUMMARY:Bedtime Stories Featuring Crystal Jordan \, Jasmine Hawkins \, AJ Kikumoto \, D.M. Whitaker
DESCRIPTION:Get ready for bedtime stories and engaging activities during Black Children’s Book Week every night at 6:00 pm MST\, 7:00 pm CST\, and 8:00 pm EST. Each day\, you can increase your chances of winning prizes by listening to the daily keyword. You will need to listen for the keyword\, interact with the author\, and comment on the word in order to enter our big giveaway\, which will be held on Saturday night.\n\nWants to purchase our books: www.amazon.com/hz/wishlist/ls/2TEAUX5U4X6QT?ref_=wl_share\n\n\n\nFebruary 26 – March 4\n\n\nWatch Us Here: https://www.youtube.com/watch?v=u0ZaavaJFXU…\n\n\nHere is our Schedule\nAll readings and days are 15 minutes to 30 minutes one author per day.\n\n\nEvery author day\, we can collect emails for a giveaway hosted by the author.\n\n\n2/26 Sunday – Meet and Greet the authors for 45 minutes\n2/27 Monday – D.M. Whitaker reading The Potty Monster: Girls Potty Training with Courage\n2/28 Tuesday – Jasmine Hawkins reading Jason Becomes a Hero\n3/1 Wednesday – Crystal reading Just Like You an Autism Awareness Children’s Book\n3/2 Thursday – AJ Kikumoto reading Uniquely Me: A Poem Celebrating Individuality by Sheryl Prince\n3/3 Friday – Create your own story\nPlease Purchase these books to be ready to write your own story.\n\n\n* http://www.amazon.com/Write-Your-Story…/dp/1959734008/\n\n\n* http://www.amazon.com/Unicorns-Draw-Write…/dp/B0BTRMDMMQ?\n\n\n3/4 Saturday – Crystal reads I Am Auesome Positive Affirmations for Autistic Children: Autism Awareness Book\n\n\nThe big giveaway party. Full of Dancing Party will last 30 minutes\nThroughout the week we have a word for each day. They must comment on the word and each word is an entry. On Saturday we will do the spin the wheel.\n\n\nLive Stream powered by Stream Yard: https://streamyard.com?pal=4745915366113280
URL:https://staging.blackbabybooks.com/event/bedtime-stories-featuring-crystal-jordan-jasmine-hawkins-aj-kikumoto-d-m-whitaker/2023-02-27/
LOCATION:Virtual
ATTACH;FMTTYPE=image/jpeg:https://staging.blackbabybooks.com/wp-content/uploads/2023/02/329911416_1289174981665027_9117370901375672276_n.jpg
ORGANIZER;CN="Crystal Jordan Zachariah World":MAILTO:crystaljordan@zachariahworld.com
END:VEVENT
BEGIN:VEVENT
DTSTART;TZID=Atlantic/South_Georgia:20230227T190000
DTEND;TZID=Atlantic/South_Georgia:20230227T200000
DTSTAMP:20260420T103509
CREATED:20230215T021459Z
LAST-MODIFIED:20230215T021459Z
UID:10002222-1677524400-1677528000@staging.blackbabybooks.com
SUMMARY:Join us for a LIVE chat with young authors Jasmine C.T. Hunt & Elyse Sayers!
DESCRIPTION:Celebrate Black Children’s Book Week by joining us for a fun IG LIVE chat with young authors Jasmine C.T. Hunt and Elyse Sayers as they discuss their books\, what it’s like to be published authors\, and life as 10-year-olds!
URL:https://staging.blackbabybooks.com/event/join-us-for-a-live-chat-with-young-authors-jasmine-c-t-hunt-elyse-sayers/
LOCATION:Virtual
CATEGORIES:Virtual
ATTACH;FMTTYPE=image/png:https://staging.blackbabybooks.com/wp-content/uploads/2023/02/IG-Live.png
ORGANIZER;CN="Elyse So Powerful":MAILTO:info@elysesopowerful.com
END:VEVENT
BEGIN:VEVENT
DTSTART;TZID=America/New_York:20230227T183000
DTEND;TZID=America/New_York:20230227T193000
DTSTAMP:20260420T103509
CREATED:20230125T192720Z
LAST-MODIFIED:20230125T192720Z
UID:10002170-1677522600-1677526200@staging.blackbabybooks.com
SUMMARY:What’s the roll of an author\, editor and publisher?
DESCRIPTION:Do you have curious children that will enjoy learning about the roles of an author\, publisher and/or editor? Join this presentation with your children to open up their minds about the publishing world! This is for children 6 and up! Zoom Link to be sent a week before the event!
URL:https://staging.blackbabybooks.com/event/whats-the-roll-of-an-author-editor-and-publisher/
LOCATION:Virtual
ATTACH;FMTTYPE=image/png:https://staging.blackbabybooks.com/wp-content/uploads/2023/01/504F2A61-7C91-48F5-8EDE-4133425B6487.png
ORGANIZER;CN="Fatmata Jalloh":MAILTO:kidosaurpublishing@gmail.com
END:VEVENT
BEGIN:VEVENT
DTSTART;TZID=America/New_York:20230226T200000
DTEND;TZID=America/New_York:20230226T203000
DTSTAMP:20260420T103509
CREATED:20230209T174751Z
LAST-MODIFIED:20230209T174751Z
UID:10002198-1677441600-1677443400@staging.blackbabybooks.com
SUMMARY:Bedtime Stories Featuring Crystal Jordan \, Jasmine Hawkins \, AJ Kikumoto \, D.M. Whitaker
DESCRIPTION:Get ready for bedtime stories and engaging activities during Black Children’s Book Week every night at 6:00 pm MST\, 7:00 pm CST\, and 8:00 pm EST. Each day\, you can increase your chances of winning prizes by listening to the daily keyword. You will need to listen for the keyword\, interact with the author\, and comment on the word in order to enter our big giveaway\, which will be held on Saturday night.\n\nWants to purchase our books: www.amazon.com/hz/wishlist/ls/2TEAUX5U4X6QT?ref_=wl_share\n\n\n\nFebruary 26 – March 4\n\n\nWatch Us Here: https://www.youtube.com/watch?v=u0ZaavaJFXU…\n\n\nHere is our Schedule\nAll readings and days are 15 minutes to 30 minutes one author per day.\n\n\nEvery author day\, we can collect emails for a giveaway hosted by the author.\n\n\n2/26 Sunday – Meet and Greet the authors for 45 minutes\n2/27 Monday – D.M. Whitaker reading The Potty Monster: Girls Potty Training with Courage\n2/28 Tuesday – Jasmine Hawkins reading Jason Becomes a Hero\n3/1 Wednesday – Crystal reading Just Like You an Autism Awareness Children’s Book\n3/2 Thursday – AJ Kikumoto reading Uniquely Me: A Poem Celebrating Individuality by Sheryl Prince\n3/3 Friday – Create your own story\nPlease Purchase these books to be ready to write your own story.\n\n\n* http://www.amazon.com/Write-Your-Story…/dp/1959734008/\n\n\n* http://www.amazon.com/Unicorns-Draw-Write…/dp/B0BTRMDMMQ?\n\n\n3/4 Saturday – Crystal reads I Am Auesome Positive Affirmations for Autistic Children: Autism Awareness Book\n\n\nThe big giveaway party. Full of Dancing Party will last 30 minutes\nThroughout the week we have a word for each day. They must comment on the word and each word is an entry. On Saturday we will do the spin the wheel.\n\n\nLive Stream powered by Stream Yard: https://streamyard.com?pal=4745915366113280
URL:https://staging.blackbabybooks.com/event/bedtime-stories-featuring-crystal-jordan-jasmine-hawkins-aj-kikumoto-d-m-whitaker/2023-02-26/
LOCATION:Virtual
ATTACH;FMTTYPE=image/jpeg:https://staging.blackbabybooks.com/wp-content/uploads/2023/02/329911416_1289174981665027_9117370901375672276_n.jpg
ORGANIZER;CN="Crystal Jordan Zachariah World":MAILTO:crystaljordan@zachariahworld.com
END:VEVENT
BEGIN:VEVENT
DTSTART;TZID=America/New_York:20230226T180000
DTEND;TZID=America/New_York:20230226T190000
DTSTAMP:20260420T103509
CREATED:20230215T023750Z
LAST-MODIFIED:20230215T023750Z
UID:10002227-1677434400-1677438000@staging.blackbabybooks.com
SUMMARY:Books and Bubbles with Gabrielle - Celebrating Black Historic Figures in S.T.E.A.M
DESCRIPTION:Virtual Story Time with 11-year-old author\, Gabrielle O. Starkes! She’ll read stories focusing on characters in S.T.E.A.M (Science\, Technology\, Engineering\, Arts\, and Math). Each story will teach the listener about important historic figures in history who changed the lives of many around the world. She’ll even share an excerpt from her book and have a giveaway!
URL:https://staging.blackbabybooks.com/event/books-and-bubbles-with-gabrielle-celebrating-black-historic-figures-in-s-t-e-a-m/
LOCATION:Virtual
CATEGORIES:Children's Book Reading,Virtual
ATTACH;FMTTYPE=image/png:https://staging.blackbabybooks.com/wp-content/uploads/2023/02/GB-Books-and-Bubbles-0226.png
ORGANIZER;CN="Gabrielle O. Starkes":MAILTO:gostarkes@gmail.com
END:VEVENT
BEGIN:VEVENT
DTSTART;TZID=America/New_York:20230226T120000
DTEND;TZID=America/New_York:20230226T121500
DTSTAMP:20260420T103509
CREATED:20230118T145209Z
LAST-MODIFIED:20230118T145209Z
UID:10002160-1677412800-1677413700@staging.blackbabybooks.com
SUMMARY:Black Kids Belong in Books!
DESCRIPTION:I will host an IG live to express a Black children’s book that I read as an adult and how it impacted me.
URL:https://staging.blackbabybooks.com/event/black-kids-belong-in-books/
LOCATION:Virtual
CATEGORIES:Children's Book Reading
ATTACH;FMTTYPE=image/png:https://staging.blackbabybooks.com/wp-content/uploads/2023/01/IG-Live-Love-for-Words-Black-Childrens-Book-Week-Black-Kids-Belong-in-Books-Digital-Flyer-Graphic-1.png
ORGANIZER;CN="Love for Words":MAILTO:polland@love4words.com
END:VEVENT
END:VCALENDAR